BEGIN:VCALENDAR
VERSION:2.0
PRODID:-//ChamberMaster//Event Calendar 2.0//EN
METHOD:PUBLISH
X-PUBLISHED-TTL:P3D
REFRESH-INTERVAL:P3D
CALSCALE:GREGORIAN
BEGIN:VEVENT
DTSTART:20190109T163000Z
DTEND:20190109T180000Z
X-MICROSOFT-CDO-ALLDAYEVENT:FALSE
SUMMARY:Master Your Membership Lunch
DESCRIPTION:Whether a brand new member\, a new employee of a member\, or a member just getting back into the swing of things\, the best place to start is by attending the new Master Your Membership Lunch.\n\n\n\nLunch will be provided at this complimentary event\, thanks to Myrecipe4Life\, LLC\n\n\n\nAttendees will meet the Chamber staff and learn how the departments of membership\, events\, communications\, The Chamber Foundation\, and Workforce Development Center operate for the benefit of members. Information about all the services included with your membership dues will be provided and this is a great opportunity to ask questions.\n\n\n\nPlease\, only one representative per company.\n\nCall (845) 454-1700\, ext.1000 or email: frontdesk@dcrcoc.org\n\n\n\nSponsored by: Branding Pros
X-ALT-DESC;FMTTYPE=text/html:<br />\n<span style="font-family:times new roman\;"><span style="font-size: 14px\;">Whether a brand new member\, a new employee of a member\, or a member just getting back into the swing of things\, the best place to start is by attending the new Master Your Membership Lunch.<br />\n<br />\n<span style="color:#000000\;">Lunch will be provided at this complimentary event\, thanks to </span><a href="http://www.myrecipe4life.com" target="_blank"><span style="color:#0000FF\;"><strong>Myrecipe4Life\, LLC</strong></span></a><br />\n<br />\nAttendees will meet the Chamber staff and learn how the departments of membership\, events\, communications\, The Chamber Foundation\, and Workforce Development Center operate for the benefit of members. Information about all the services included with your membership dues will be provided and this is a great opportunity to ask questions.</span><br />\n<br />\n<span style="font-size:16px\;"><strong>Please\, only one representative per company.</strong><br />\nCall (845) 454-1700\, ext.1000 or email: <span style="color:#0000FF\;">frontdesk@dcrcoc.org</span></span></span><br />\n<br />\nSponsored by: <strong><a href="https://www.brandingpros.com/"><span style="color:#0000FF\;">Branding Pros</span></a></strong><br />\n&nbsp\;
LOCATION:Dutchess County Regional Chamber of Commerce 1 Civic Center Plaza\, 4th Floor Chamber Conference Room Poughkeepsie\, NY 12601
UID:e.2770.10479747
SEQUENCE:3
DTSTAMP:20260425T123659Z
URL:http://dutchesscountyregional.smartcms.site/events/details/master-your-membership-lunch-10479747
END:VEVENT

END:VCALENDAR
