BEGIN:VCALENDAR
VERSION:2.0
PRODID:-//ChamberMaster//Event Calendar 2.0//EN
METHOD:PUBLISH
X-PUBLISHED-TTL:P3D
REFRESH-INTERVAL:P3D
CALSCALE:GREGORIAN
BEGIN:VEVENT
DTSTART:20190806T153000Z
DTEND:20190806T170000Z
X-MICROSOFT-CDO-ALLDAYEVENT:FALSE
SUMMARY:Master Your Membership Lunch
DESCRIPTION:Whether a brand new member\, a new employee of a member\, or a member just getting back into the swing of things\, the best place to start is by attending the new Master Your Membership Lunch.\n\n\n\nLunch will be provided at this complimentary event.\n\n\n\nAttendees will meet the Chamber staff and learn how the departments of membership\, events\, communications\, The Chamber Foundation\, and Workforce Development Center operate for the benefit of members. Information about all the services included with your membership dues will be provided and this is a great opportunity to ask questions.\n\n\n\nPlease\, only one representative per company.\n\nCall (845) 454-1700\, ext.1000 or email: frontdesk@dcrcoc.org\n\n\n\nSponsored by: Ulster Savings Bank
X-ALT-DESC;FMTTYPE=text/html:<br />\n<span style="font-family: times new roman\;"><span style="font-size: 14px\;">Whether a brand new member\, a new employee of a member\, or a member just getting back into the swing of things\, the best place to start is by attending the new Master Your Membership Lunch.<br />\n<br />\nLunch will be provided at this complimentary event.<br />\n<br />\nAttendees will meet the Chamber staff and learn how the departments of membership\, events\, communications\, The Chamber Foundation\, and Workforce Development Center operate for the benefit of members. Information about all the services included with your membership dues will be provided and this is a great opportunity to ask questions.</span><br />\n<br />\n<span style="font-size: 16px\;"><strong>Please\, only one representative per company.</strong><br />\nCall (845) 454-1700\, ext.1000 or email: <span style="color: rgb(0\, 0\, 255)\;">frontdesk@dcrcoc.org</span></span></span><br />\n<br />\n<span style="text-align: left\; color: rgb(51\, 51\, 51)\; text-transform: none\; text-indent: 0px\; letter-spacing: normal\; font-family: arial\; font-size: 16px\; font-style: normal\; font-variant: normal\; font-weight: 400\; text-decoration: none\; word-spacing: 0px\; float: none\; display: inline !important\; white-space: normal\; orphans: 2\; background-color: transparent\; -webkit-text-stroke-width: 0px\;"><span style="font-size: 14px\;">Sponsored by:</span> </span><span style="font-size: 14px\;"><span style="text-align: left\; text-transform: none\; text-indent: 0px\; letter-spacing: normal\; font-family: arial\; font-style: normal\; font-variant: normal\; font-weight: 400\; text-decoration: none\; word-spacing: 0px\; float: none\; display: inline !important\; white-space: normal\; orphans: 2\; background-color: transparent\; -webkit-text-stroke-width: 0px\;"><strong><a href="https://www.ulstersavings.com/home/home" target="_blank"><span style="color: rgb(0\, 0\, 255)\;">Ulster Savings Bank</span></a></strong></span></span>
LOCATION:Dutchess County Regional Chamber of Commerce 1 Civic Center Plaza\, 4th Floor Chamber Conference Room Poughkeepsie\, NY 12601
UID:e.2770.10479885
SEQUENCE:3
DTSTAMP:20260422T223426Z
URL:http://dutchesscountyregional.smartcms.site/events/details/master-your-membership-lunch-10479885
END:VEVENT

END:VCALENDAR
