BEGIN:VCALENDAR
VERSION:2.0
PRODID:-//ChamberMaster//Event Calendar 2.0//EN
METHOD:PUBLISH
X-PUBLISHED-TTL:P3D
REFRESH-INTERVAL:P3D
CALSCALE:GREGORIAN
BEGIN:VEVENT
DTSTART:20190621T230000Z
DTEND:20190622T013000Z
X-MICROSOFT-CDO-ALLDAYEVENT:FALSE
SUMMARY:MASTERS & COLOR Energy\, Vibration & Color
DESCRIPTION:Feeling disconnected? Not sure which path to take?\n\nThen join Dr. Stacey Lamar\, Intuitive and Energy Practitioner for an evening of intuitive guidance.\n\nLearn how to connect with living energies of color and receive your personal message.
X-ALT-DESC;FMTTYPE=text/html:<span style="font-size:14px"><span style="font-family:tahoma">Feeling disconnected? Not sure which path to take?<br />\nThen join Dr. Stacey Lamar\, Intuitive and Energy Practitioner for an evening of intuitive guidance.<br />\nLearn how to connect with living energies of color and receive your personal message.&nbsp\;</span></span>
LOCATION:The Source NY 143 Boardman Rd\, Bldg 3 Poughkeepsie\, NY 12603
UID:e.2770.10480953
SEQUENCE:3
DTSTAMP:20260423T021229Z
URL:http://dutchesscountyregional.smartcms.site/events/details/masters-color-energy-vibration-color-10480953
END:VEVENT

END:VCALENDAR
