BEGIN:VCALENDAR
VERSION:2.0
PRODID:-//ChamberMaster//Event Calendar 2.0//EN
METHOD:PUBLISH
X-PUBLISHED-TTL:P3D
REFRESH-INTERVAL:P3D
CALSCALE:GREGORIAN
BEGIN:VEVENT
DTSTART:20201109T230000Z
DTEND:20201110T020000Z
X-MICROSOFT-CDO-ALLDAYEVENT:FALSE
SUMMARY:Maximize Your Financials with Excel
DESCRIPTION:Overview:\n\nAre you ready for 2021?  As the new year approaches understanding where your finances have been and where they are going is critical to your business's success.  In this interactive session\, participants will learn how to use Excel to gain insights into their business.  This class is great for anyone who has some experience with Excel but is not sure where to start with it when it comes to their business's financials.\n\nTake-Aways:\n\n\n	Top 10 formulas for business\n	Use Excel to gain valuable insights\n	Create your own budget/forecasts\n	Understanding pivot tables\n	Increase your comfort with Excel
X-ALT-DESC;FMTTYPE=text/html:<p><span style="font-size:16px"><strong>Overview:</strong></span></p>\n\n<p><span style="font-size:16px">Are you ready for 2021?&nbsp\; As the new year approaches understanding where your finances have been and where they are going is critical to your business&rsquo\;s success.&nbsp\; In this interactive session\, participants will learn how to use Excel to gain insights into their business.&nbsp\; This class is great for anyone who has some experience with Excel but is not sure where to start with it when it comes to their business&rsquo\;s financials.</span></p>\n\n<p><span style="font-size:16px"><strong>Take-Aways:</strong></span></p>\n\n<ul>\n	<li><span style="font-size:16px">Top 10 formulas for business</span></li>\n	<li><span style="font-size:16px">Use Excel to gain valuable insights</span></li>\n	<li><span style="font-size:16px">Create your own budget/forecasts</span></li>\n	<li><span style="font-size:16px">Understanding pivot tables</span></li>\n	<li><span style="font-size:16px">Increase your comfort with Excel</span></li>\n</ul>\n
LOCATION:Zoom Webinar
UID:e.2770.10484452
SEQUENCE:3
DTSTAMP:20260421T193154Z
URL:http://dutchesscountyregional.smartcms.site/events/details/maximize-your-financials-with-excel-10484452
END:VEVENT

END:VCALENDAR
