BEGIN:VCALENDAR
VERSION:2.0
PRODID:-//ChamberMaster//Event Calendar 2.0//EN
METHOD:PUBLISH
X-PUBLISHED-TTL:P3D
REFRESH-INTERVAL:P3D
CALSCALE:GREGORIAN
BEGIN:VEVENT
DTSTART:20180516T113000Z
DTEND:20180516T130000Z
X-MICROSOFT-CDO-ALLDAYEVENT:FALSE
SUMMARY:May Contact Breakfast
DESCRIPTION:Monthly contact breakfast featuring Beacon Mayor Randy Casale. The Mayor will discuss what's happening economically in the City of Beacon\, how it relates to the rest of the Hudson Valley\, and any planned initiatives that are relevant to the business community.\n\n\n\nAs you all know\, there are many people in need of our assistance. The Chamber's Ambassador committee has partnered with our Workforce Development Center to collect canned and dry goods at our Contact Breakfast. Your donations are greatly appreciated.\n\n\n\nSponsored by: M&T Bank\n\n\n\nNonprofits: American Cancer Society\, The Chamber Foundation\, Inc.\, EverCare\, The World Wide Peace Bell Foundation\np.p1 {margin: 0.0px 0.0px 0.0px 0.0px\; font: 15.0px Calibri}
X-ALT-DESC;FMTTYPE=text/html:<p><span style="font-size:14px\;"><span style="font-family:arial\;">Monthly contact breakfast featuring Beacon Mayor&nbsp\;Randy Casale. The Mayor will discuss&nbsp\;what&rsquo\;s happening economically in the City of Beacon\, how it relates to the rest of the Hudson Valley\, and any planned initiatives that are relevant to the business community.</span></span><br />\n<br />\n<strong style="color: rgb(51\, 51\, 51)\; font-family: sans-serif\, Arial\, Verdana\, &quot\;Trebuchet MS&quot\;\; font-size: 13px\; background-color: rgb(255\, 255\, 255)\;"><span style="font-family: Arial\, Helvetica\, &quot\;MS Sans Serif&quot\;\, sans-serif\;">As you all know\, there are many people in need of our assistance. The Chamber&#39\;s Ambassador committee has partnered with our Workforce Development Center to collect canned and dry goods at our Contact Breakfast. Your donations are greatly appreciated.</span></strong><br />\n<br />\n<span style="font-family: Arial\, Helvetica\, &quot\;MS Sans Serif&quot\;\, sans-serif\;"><span style="font-size:14px\;"><strong>Sponsored by</strong>:</span> <a href="https://www.mtb.com/home-page" target="_blank"><span style="color:#0000FF\;">M&amp\;T Bank</span></a><br />\n<br />\n<span style="font-size:14px\;"><span style="font-family:arial\;"><strong>Nonprofits</strong>: <a href="http://www.cancer.org" target="_blank"><span style="color:#0000FF\;">American Cancer Society</span></a><span style="color:#0000FF\;">\,&nbsp\;</span></span></span></span><span style="font-family: arial\; font-size: 14px\;"><a href="http://www.chamberfdn.org" style="font-family: arial\; font-size: 14px\;" target="_blank"><span style="color:#0000FF\;">The Chamber Foundation\, Inc.</span></a><span style="color:#0000FF\;">\,&nbsp\;</span></span><a href="http://www.evercare.org" style="font-family: arial\; font-size: 14px\;" target="_blank"><span style="color:#0000FF\;">EverCare</span></a><span style="color:#0000FF\;"><span style="font-family: arial\; font-size: 14px\;">\,&nbsp\;</span></span><span style="font-size:14px\;"><span style="font-family:arial\;"><a href="http://www.peacebellfoundation.org" target="_blank"><span style="color:#0000FF\;">The World Wide Peace Bell Foundation</span></a></span></span></p>\n<style type="text/css">p.p1 {margin: 0.0px 0.0px 0.0px 0.0px\; font: 15.0px Calibri}\n</style>\n
LOCATION:The Poughkeepsie Grand Hotel & Conference Center 40 Civic Center Plaza Poughkeepsie\, NY 12601
UID:e.2770.10476430
SEQUENCE:3
DTSTAMP:20260426T034234Z
URL:http://dutchesscountyregional.smartcms.site/events/details/may-contact-breakfast-05-16-2018-10476430
END:VEVENT

END:VCALENDAR
