BEGIN:VCALENDAR
VERSION:2.0
PRODID:-//ChamberMaster//Event Calendar 2.0//EN
METHOD:PUBLISH
X-PUBLISHED-TTL:P3D
REFRESH-INTERVAL:P3D
CALSCALE:GREGORIAN
BEGIN:VEVENT
DTSTART:20210519T114500Z
DTEND:20210519T130000Z
X-MICROSOFT-CDO-ALLDAYEVENT:FALSE
SUMMARY:May Contact Breakfast
DESCRIPTION:This event will be held on Zoom and In Person.\n\nRegistration is required as space is limited. \n\n\n\nFor Zoom Registration: Please Click Here\n\n*For In Person Registration: Please Click the Blue Button Above^\n\n\n\n***Please Note: If you try to register for the in person option\, after 4:30 PM on Tuesday May 18\, you will NOT be on our registration list. \n\n\n\nMonthly Contact Breakfast featuring a keynote presentation will be given by Neil Gilberg\, Advocate for Business from the New York State Workers' Compensation Board\, providing an overview of workers' compensation\, disability and paid family leave benefits\, related COVID-19 details\, specialized one-on-one customer service\, and responsibilities of small to large businesses\, corporations and non-profit enterprises.\n\n\n\nThe Chamber's May Breakfast will be held with as many as 100 people safely attending the event live at The Poughkeepsie Grand Hotel and Conference Center\, and others able to view the event on Zoom and Facebook.\n\n\n\nRegistration to attend live is available\, first come first served\, and a light plated breakfast will be served. Walk-ins will not be able to be accommodated.\n\n\n\nFor questions\, please email Chelsea@dcrcoc.org or you may leave a message at 845-454-1700 ext. 1006.\n\n\n\nThank you to our sponsors: Mountain View Strategic Wealth and Royal Carting Service Company
X-ALT-DESC;FMTTYPE=text/html:<p><span style="font-family:times new roman\;"><strong><span style="color:black\;"><span style="font-size:13.5pt\;">This event will be held on Zoom and In Person.<br />\nRegistration is required as space is limited.&nbsp\;</span></span></strong><br />\n<br />\n<strong><span style="background:yellow\;"><span style="color:black\;"><span style="font-size:13.5pt\;">For Zoom Registration: Please Click </span></span><span style="font-size:13.5pt\;"><a href="https://dcrcoc-org.zoom.us/webinar/register/WN_smwqwdPsSYyb65UbdZR7Gw" target="_blank"><span style="color:#0000FF\;">Here</span></a></span></span></strong><br />\n<strong><span style="background:yellow\;"><span style="color:black\;"><span style="font-size:13.5pt\;">*For In Person Registration: Please Click the <em>Blue</em> Button Above^</span></span></span></strong><br />\n<br />\n<span style="font-size:18px\;"><span style="color: rgb(255\, 0\, 0)\; font-weight: 700\;">***Please Note: If&nbsp\;you try to register for the in person option\, after 4:30 PM on Tuesday May 18\,&nbsp\;you will NOT be on our registration list.&nbsp\;</span></span></span><br />\n<br />\n<span style="font-family:times new roman\;"><span style="font-size:16px\;"><span style="color:#000000\;">Monthly Contact Breakfast featuring&nbsp\;a keynote presentation will be given by Neil Gilberg\, Advocate for Business from the New York State Workers&#39\; Compensation Board\, providing an overview of workers&#39\; compensation\, disability and paid family leave benefits\, related COVID-19 details\, specialized one-on-one customer service\, and responsibilities of small to large businesses\, corporations and non-profit enterprises.</span></span></span><br />\n<br />\n<span style="font-family:times new roman\;"><em><span style="background-image:initial\;background-position:initial\;background-size:initial\;background-repeat:initial\;background-attachment:initial\;background-origin:initial\;background-clip:initial\;"><span style="color:black\;"><span style="font-size:11.0pt\;">The Chamber&#39\;s May Breakfast will be held with as many as 100 people safely attending the event live at The Poughkeepsie Grand Hotel and Conference Center\, and others able to view the event on Zoom and Facebook.</span></span></span></em><br />\n<br />\n<em><span style="color:black\;"><span style="font-size:11.0pt\;"><span style="background-image:initial\;background-position:initial\;background-size:initial\;background-repeat:initial\;background-attachment:initial\;background-origin:initial\;background-clip:initial\;">Registration to attend live is available</span></span></span></em><em><span style="color:black\;"><span style="font-size:11.0pt\;">\, first come first served\, and a light plated breakfast will be served. Walk-ins will not be able to be accommodated.</span></span></em><br />\n<br />\n<span style="color:black\;"><span style="font-size:11.0pt\;"><span style="background-image:initial\;background-position:initial\;background-size:initial\;background-repeat:initial\;background-attachment:initial\;background-origin:initial\;background-clip:initial\;">For questions\, please email&nbsp\;</span></span></span><span style="font-size:11.0pt\;"><a href="mailto:Chelsea@dcrcoc.org"><span style="color:#0000FF\;"><span style="background-image:initial\;background-position:initial\;background-size:initial\;background-repeat:initial\;background-attachment:initial\;background-origin:initial\;background-clip:initial\;">Chelsea@dcrcoc.org</span></span></a></span><span style="color:black\;"><span style="font-size:11.0pt\;"><span style="background-image:initial\;background-position:initial\;background-size:initial\;background-repeat:initial\;background-attachment:initial\;background-origin:initial\;background-clip:initial\;">&nbsp\;or you may leave a message at 845-454-1700 ext. 1006.</span></span></span><br />\n<br style="font-variant-ligatures:normal\;font-variant-caps:normal\;orphans:2\;text-align:start\;widows:2\;-webkit-text-stroke-width:0px\;text-decoration-thickness:initial\;text-decoration-style:initial\;box-sizing:border-box\;word-spacing:0px\;" />\n<span style="font-size:18px\;"><span style="color:black\;"><span style="font-variant-ligatures:normal\;font-variant-caps:normal\;orphans:2\;text-align:start\;widows:2\;-webkit-text-stroke-width:0px\;text-decoration-thickness:initial\;text-decoration-style:initial\;word-spacing:0px\;">Thank you to our sponsors:&nbsp\;</span></span><strong><a href="http://www.morganwealth.net" target="_blank"><span style="color:#0000FF\;">Mountain View Strategic Wealth</span></a></strong><span style="color:black\;"> and </span><strong><a href="https://www.royalcarting.us/" target="_blank"><span style="color:#0000FF\;">Royal Carting Service Company</span></a></strong></span></span></p>\n
LOCATION:Zoom & The Poughkeepsie Grand Hotel 40 Civic Center Plaza Poughkeepsie
UID:e.2770.10484490
SEQUENCE:3
DTSTAMP:20260421T101148Z
URL:http://dutchesscountyregional.smartcms.site/events/details/may-contact-breakfast-10484490
END:VEVENT

END:VCALENDAR
