BEGIN:VCALENDAR
VERSION:2.0
PRODID:-//ChamberMaster//Event Calendar 2.0//EN
METHOD:PUBLISH
X-PUBLISHED-TTL:P3D
REFRESH-INTERVAL:P3D
CALSCALE:GREGORIAN
BEGIN:VEVENT
DTSTART:20190527T140000Z
DTEND:20190527T150000Z
X-MICROSOFT-CDO-ALLDAYEVENT:FALSE
SUMMARY:Memorial Day Program
DESCRIPTION:On Monday\, May 27th at 10 am the Fishkill Rural Cemetery will be hosting a Memorial Day program at the Fishkill Rural Cemetery DuBois Chapel. This year's speaker will be Veterans Affairs Chaplain at Castle Point Father Karl Lindblad. Dedication of our new Mausoleum. Light refreshments will be served. This event will be held rain or shine! If you have any questions please call the office at 896-6227.
X-ALT-DESC;FMTTYPE=text/html:On Monday\, May 27th at 10 am the Fishkill Rural Cemetery will be hosting a Memorial Day program at the Fishkill Rural Cemetery DuBois Chapel. This year&rsquo\;s speaker will be Veterans Affairs Chaplain at Castle Point Father Karl Lindblad. Dedication of our new Mausoleum. Light refreshments will be served. This event will be held rain or shine! If you have any questions please call the office at 896-6227.
LOCATION:Fishkill Rural Cemetery 801 Route 9 Fishkill\, NY 12524
UID:e.2770.10480757
SEQUENCE:3
DTSTAMP:20260423T034857Z
URL:http://dutchesscountyregional.smartcms.site/events/details/memorial-day-program-05-27-2019-10480757
END:VEVENT

END:VCALENDAR
