BEGIN:VCALENDAR
VERSION:2.0
PRODID:-//ChamberMaster//Event Calendar 2.0//EN
METHOD:PUBLISH
X-PUBLISHED-TTL:P3D
REFRESH-INTERVAL:P3D
CALSCALE:GREGORIAN
BEGIN:VEVENT
DTSTART:20201127T140000Z
DTEND:20201203T220000Z
X-MICROSOFT-CDO-ALLDAYEVENT:FALSE
SUMMARY:Mental Health America of Dutchess County's Wreath Sale
DESCRIPTION:Annual sale of 18" fresh\, double-sided\, wreaths ~ includes a bag of accessories ~ a bow\, wire\, pine cones\, & holly berries
X-ALT-DESC;FMTTYPE=text/html:Annual sale of 18&quot\; fresh\, double-sided\, wreaths ~ includes a bag of accessories ~ a bow\, wire\, pine cones\, &amp\; holly berries
LOCATION:Pick up is in the back parking lot of the MHADC building at 253 Mansion Street\, Poughkeepsie NY
UID:e.2770.10484485
SEQUENCE:3
DTSTAMP:20260421T180343Z
URL:http://dutchesscountyregional.smartcms.site/events/details/mental-health-america-of-dutchess-county-s-wreath-sale-10-09-2020-10484485
END:VEVENT

END:VCALENDAR
