BEGIN:VCALENDAR
VERSION:2.0
PRODID:-//ChamberMaster//Event Calendar 2.0//EN
METHOD:PUBLISH
X-PUBLISHED-TTL:P3D
REFRESH-INTERVAL:P3D
CALSCALE:GREGORIAN
BEGIN:VEVENT
DTSTART:20191205T170000Z
DTEND:20191205T220000Z
X-MICROSOFT-CDO-ALLDAYEVENT:FALSE
SUMMARY:Mental Health America of Dutchess County Wreath Sale
DESCRIPTION:Orders are being taken until Monday\, November 18th for fresh\, double-sided 18" balsam wreaths
X-ALT-DESC;FMTTYPE=text/html:Orders are being taken until Monday\, November 18th for fresh\, double-sided 18&quot\; balsam wreaths
LOCATION:Mental Health America of Dutchess County's back parking lot
UID:e.2770.10481487
SEQUENCE:3
DTSTAMP:20260422T140040Z
URL:http://dutchesscountyregional.smartcms.site/events/details/mental-health-america-of-dutchess-county-wreath-sale-12-05-2019-10481487
END:VEVENT

END:VCALENDAR
