BEGIN:VCALENDAR
VERSION:2.0
PRODID:-//ChamberMaster//Event Calendar 2.0//EN
METHOD:PUBLISH
X-PUBLISHED-TTL:P3D
REFRESH-INTERVAL:P3D
CALSCALE:GREGORIAN
BEGIN:VEVENT
DTSTART:20200307T150000Z
DTEND:20200308T000000Z
X-MICROSOFT-CDO-ALLDAYEVENT:FALSE
SUMMARY:MHADC Indoor Golf Tournament
DESCRIPTION:18 holes of simulated golf for 6 players at each simulator\, complimentary lunch and dinner\, raffles & prizes for top 3 teams\, closest to the pin\, & longest drive ~ tee times at 10 a.m.\, 2:30 p.m.\, & 7:00 p.m.
X-ALT-DESC;FMTTYPE=text/html:18 holes of simulated golf for 6 players at each simulator\, complimentary lunch and dinner\, raffles &amp\; prizes for top 3 teams\, closest to the pin\, &amp\; longest drive ~ tee times at 10 a.m.\, 2:30 p.m.\, &amp\; 7:00 p.m.
LOCATION:DC Indoor Golf at 10 Crannell Street\, Poughkeepsie NY
UID:e.2770.10482666
SEQUENCE:3
DTSTAMP:20260422T090603Z
URL:http://dutchesscountyregional.smartcms.site/events/details/mhadc-indoor-golf-tournament-10482666
END:VEVENT

END:VCALENDAR
