BEGIN:VCALENDAR
VERSION:2.0
PRODID:-//ChamberMaster//Event Calendar 2.0//EN
METHOD:PUBLISH
X-PUBLISHED-TTL:P3D
REFRESH-INTERVAL:P3D
CALSCALE:GREGORIAN
BEGIN:VEVENT
DTSTART:20191220T150000Z
DTEND:20191220T160000Z
X-MICROSOFT-CDO-ALLDAYEVENT:FALSE
SUMMARY:Mindfulness Strategies for Stress Reduction
DESCRIPTION:FREE Community Course! Sometimes balancing work and personal life can be hard and stressful. With this free 1 hour class we can teach you some strategies for dealing with that stress in order to lead a more productive and healthy lifestyle. Advance registration is required. Please call Gina Zullo 452-5772 Ext. 102 or email at gzullo@greystoneprograms.org
X-ALT-DESC;FMTTYPE=text/html:FREE Community Course! Sometimes balancing work and personal life can be hard and stressful. With this free 1 hour class we can teach you some strategies for dealing with that stress in order to lead a more productive and healthy lifestyle. Advance registration is required. Please call Gina Zullo 452-5772 Ext. 102 or email at gzullo@greystoneprograms.org
LOCATION:5 Givans Avenue\, 1st Floor Wappingers Falls\, NY 12590
UID:e.2770.10482620
SEQUENCE:3
DTSTAMP:20260422T155045Z
URL:http://dutchesscountyregional.smartcms.site/events/details/mindfulness-strategies-for-stress-reduction-10482620
END:VEVENT

END:VCALENDAR
