BEGIN:VCALENDAR
VERSION:2.0
PRODID:-//ChamberMaster//Event Calendar 2.0//EN
METHOD:PUBLISH
X-PUBLISHED-TTL:P3D
REFRESH-INTERVAL:P3D
CALSCALE:GREGORIAN
BEGIN:VEVENT
DTSTART;VALUE=DATE:20200401
DTEND;VALUE=DATE:20200402
TRANSP:TRANSPARENT
X-MICROSOFT-CDO-ALLDAYEVENT:TRUE
SUMMARY:MOST Physical Therapy is Celebrating over 30 Years in Business!
DESCRIPTION:MOST Physical Therapy is celebrating over 30 years in business. With three locations to serve you in Rhinebeck\, Millbrook and Hopewell Junction. \nAs a part of our Patient appreciation celebration\, we are offering COMPLIMENTARY new patients consultations!\n\n\n\nIf you are looking for a physical therapy practice with a sound reputation that will help you reach your goals\, then look no further. MOST takes great pride in being a trusted provider with a knowledgeable\, friendly staff experienced in a variety of services to help you reach the outcomes for which you are looking. Call today to schedule your free consultation.\n\n \n\nMillbrook: 845-677-5021\n\n\n\nHopewell Junction: 845-592-4605 \n\n\n\nRhinebeck: 845-876-8220
X-ALT-DESC;FMTTYPE=text/html:<h2><span style="font-size:14px"><span style="font-family:verdana">MOST Physical Therapy is celebrating over 30 years in business. With three locations to serve you in Rhinebeck\, Millbrook and Hopewell Junction.&nbsp\;</span></span></h2>\n<span style="font-size:14px"><span style="font-family:verdana">As a part of our Patient appreciation celebration\, we are offering<strong>&nbsp\;COMPLIMENTARY new patients consultations</strong>!<br />\n<br />\nIf you are looking for a physical therapy practice with a sound reputation that will help you reach your goals\, then look no further. MOST takes</span></span><span style="font-family:verdana\; font-size:14px">&nbsp\;great pride in being a trusted provider with a knowledgeable\, friendly staff experienced in a variety of services to help you reach the outcomes for which you are looking. Call today to schedule your free consultation.</span><br />\n&nbsp\;\n<div>\n<div><a href="https://www.millbrookpt.com/Locations" style="box-sizing: border-box\; margin: 0px\; padding: 0px\; border: 0px\; font: inherit\; vertical-align: baseline\; text-decoration-line: none\;" title="Internal link to view our Millbrook location"><span style="color:#000000"><span style="font-family:inherit\; font-size:1.1425rem"><strong>Millbrook</strong></span><span style="font-family:inherit\; font-size:1.1425rem"><span style="font-family:inherit\; font-size:1.1425rem"><strong>:</strong>&nbsp\;845-677-5021</span></span></span></a></div>\n</div>\n\n<div>\n<div><span style="border:0px\; box-sizing:border-box\; font-family:inherit\; font-size:1.1425rem\; font-stretch:inherit\; font-style:inherit\; font-variant:inherit\; font-weight:inherit\; line-height:inherit\; margin:0px\; padding:0px\; text-decoration-line:none\; vertical-align:baseline"><strong><a href="https://www.millbrookpt.com/Locations" style="box-sizing: border-box\; margin: 0px\; padding: 0px\; border: 0px\; font: inherit\; vertical-align: baseline\; text-decoration-line: none\;" title="Internal link to view our Hopewell Junction location"><span style="color:#000000">Hopewell Junction</span></a></strong></span><a href="https://www.millbrookpt.com/Locations" style="font: inherit\; box-sizing: border-box\; margin: 0px\; padding: 0px\; border: 0px\; vertical-align: baseline\; text-decoration-line: none\;" title="Internal link to view our Hopewell Junction location"><span style="color:#000000"><span style="font-family:inherit\; font-size:1.1425rem"><span style="font-family:inherit\; font-size:1.1425rem"><strong>:</strong>&nbsp\;845-592-4605&nbsp\;</span></span></span></a></div>\n</div>\n\n<div>\n<div><a href="https://www.millbrookpt.com/Locations" style="box-sizing: border-box\; margin: 0px\; padding: 0px\; border: 0px\; font: inherit\; vertical-align: baseline\; text-decoration-line: none\;" title="Internal link to view our Rhinebeck location"><span style="color:#000000"><span style="font-family:inherit\; font-size:1.1425rem"><strong>Rhinebeck</strong></span><span style="font-family:inherit\; font-size:1.1425rem"><span style="font-family:inherit\; font-size:1.1425rem"><strong>:</strong>&nbsp\;845-876-8220</span></span></span></a></div>\n</div>\n<br />\n<br />\n&nbsp\;\n<h2 style="text-align:center">&nbsp\;</h2>\n\n<p style="text-align:center">&nbsp\;</p>\n
LOCATION:2 Front St\, P.O. Box 1464 Millbrook\, NY 12545 135 Clove Branch Road Hopewell Junction\, NY 12533 3752 Route 9G Rhinebeck\, NY 12572
UID:e.2770.10483237
SEQUENCE:3
DTSTAMP:20260422T072352Z
URL:http://dutchesscountyregional.smartcms.site/events/details/most-physical-therapy-is-celebrating-over-30-years-in-business-10483237
END:VEVENT

END:VCALENDAR
