BEGIN:VCALENDAR
VERSION:2.0
PRODID:-//ChamberMaster//Event Calendar 2.0//EN
METHOD:PUBLISH
X-PUBLISHED-TTL:P3D
REFRESH-INTERVAL:P3D
CALSCALE:GREGORIAN
BEGIN:VEVENT
DTSTART:20190512T140000Z
DTEND:20190512T183000Z
X-MICROSOFT-CDO-ALLDAYEVENT:FALSE
SUMMARY:Mother's Day Champagne Brunch
DESCRIPTION:Celebrate Mom this Mother's Day with a Champagne Brunch at Putnam County Golf Course on Sunday\, May 12th. We have seatings between 10:00 AM and 2:30 PM (2-hour seatings).
X-ALT-DESC;FMTTYPE=text/html:Celebrate Mom this Mother&#39\;s Day with a Champagne Brunch at Putnam County Golf Course on Sunday\, May 12th. We have seatings between 10:00 AM and 2:30 PM (2-hour seatings).
LOCATION:Putnam County Golf Course
UID:e.2770.10480719
SEQUENCE:3
DTSTAMP:20260423T035219Z
URL:http://dutchesscountyregional.smartcms.site/events/details/mother-s-day-champagne-brunch-10480719
END:VEVENT

END:VCALENDAR
