BEGIN:VCALENDAR
VERSION:2.0
PRODID:-//ChamberMaster//Event Calendar 2.0//EN
METHOD:PUBLISH
X-PUBLISHED-TTL:P3D
REFRESH-INTERVAL:P3D
CALSCALE:GREGORIAN
BEGIN:VEVENT
DTSTART:20200918T160000Z
DTEND:20200925T180000Z
X-MICROSOFT-CDO-ALLDAYEVENT:FALSE
SUMMARY:Mount Gulian Opens for Outside Tours
DESCRIPTION:Mount Gulian\, Beacon N.Y.\, is pleased to offer Outside Tours beginning September 18 through October 31. Tours of the Dutch barn\, heritage garden\, and historic landscape overlooking the Hudson River will be given Fridays and Saturdays at 12pm\, 1pm and 2pm. Although tours will not include the home's interior due to the health emergency\, visitors will hear about Mount Gulian's centuries-long history that shaped our nation\, including its part in the Revolutionary War as Patriot General Von Steuben's headquarters. They'll learn about the founding of the Society of the Cincinnati\, our country's oldest veterans' organization\, and the history of generations of Verplanck family members who lived at Mount Gulian. Visitors will discover the stories of James F. Brown\, a fugitive slave who risked his life for freedom\, and of Robert Newlin Verplanck's participation in the Civil War as an officer in the US Colored Troops. Admission is $10 adults\, $8 seniors\, $5 children (ages 6-18)\; free for children under 6 and Mount Gulian members. Membership is open to the public. Please Note: Attendance will be limited to aid in social distancing and masks are required for all Mount Gulian staff and visitors. For safety during the pandemic\, restrooms will not be available\, to prevent community spread of the virus. Advance reservations are preferred but walk-ins will be accommodated if safety limitations allow. For tour reservations or further information please call Mount Gulian at 845.831.8172 or email at info@mountgulian.org.
X-ALT-DESC;FMTTYPE=text/html:Mount Gulian\, Beacon N.Y.\, is pleased to offer Outside Tours beginning September 18 through October 31. Tours of the Dutch barn\, heritage garden\, and historic landscape overlooking the Hudson River will be given Fridays and Saturdays at 12pm\, 1pm and 2pm. Although tours will not include the home&rsquo\;s interior due to the health emergency\, visitors will hear about Mount Gulian&rsquo\;s centuries-long history that shaped our nation\, including its part in the Revolutionary War as Patriot General Von Steuben&rsquo\;s headquarters. They&rsquo\;ll learn about the founding of the Society of the Cincinnati\, our country&rsquo\;s oldest veterans&rsquo\; organization\, and the history of generations of Verplanck family members who lived at Mount Gulian. Visitors will discover the stories of James F. Brown\, a fugitive slave who risked his life for freedom\, and of Robert Newlin Verplanck&rsquo\;s participation in the Civil War as an officer in the US Colored Troops. Admission is $10 adults\, $8 seniors\, $5 children (ages 6-18)\; free for children under 6 and Mount Gulian members. Membership is open to the public. Please Note: Attendance will be limited to aid in social distancing and masks are required for all Mount Gulian staff and visitors. For safety during the pandemic\, restrooms will not be available\, to prevent community spread of the virus. Advance reservations are preferred but walk-ins will be accommodated if safety limitations allow. For tour reservations or further information please call Mount Gulian at 845.831.8172 or email at info@mountgulian.org.
LOCATION:145 Sterling Street
UID:e.2770.10484460
SEQUENCE:3
DTSTAMP:20260421T225727Z
URL:http://dutchesscountyregional.smartcms.site/events/details/mount-gulian-opens-for-outside-tours-10484460
END:VEVENT

END:VCALENDAR
