BEGIN:VCALENDAR
VERSION:2.0
PRODID:-//ChamberMaster//Event Calendar 2.0//EN
METHOD:PUBLISH
X-PUBLISHED-TTL:P3D
REFRESH-INTERVAL:P3D
CALSCALE:GREGORIAN
BEGIN:VEVENT
DTSTART:20190810T160000Z
DTEND:20190810T160000Z
X-MICROSOFT-CDO-ALLDAYEVENT:FALSE
SUMMARY:Movies Under the Walkway
DESCRIPTION:Join us this summer for family friendly movies shown on a big screen at Upper Landing Park\, with the Walkway Over the Hudson as a backdrop. Food trucks\, live music and activities for the whole family before each show.
X-ALT-DESC;FMTTYPE=text/html:Join us this summer for family friendly movies shown on a big screen at Upper Landing Park\, with the Walkway Over the Hudson as a backdrop. Food trucks\, live music and activities for the whole family before each show.
LOCATION:Upper Landing Park (83 N. Water St.\, Poughkeepsie NY 12601)
UID:e.2770.10480629
SEQUENCE:3
DTSTAMP:20260422T223537Z
URL:http://dutchesscountyregional.smartcms.site/events/details/movies-under-the-walkway-08-10-2019-10480629
END:VEVENT

END:VCALENDAR
