BEGIN:VCALENDAR
VERSION:2.0
PRODID:-//ChamberMaster//Event Calendar 2.0//EN
METHOD:PUBLISH
X-PUBLISHED-TTL:P3D
REFRESH-INTERVAL:P3D
CALSCALE:GREGORIAN
BEGIN:VEVENT
DTSTART:20190108T150000Z
DTEND:20190108T230000Z
X-MICROSOFT-CDO-ALLDAYEVENT:FALSE
SUMMARY:MSMC Graduate and Adult Degree Completion Programs Transfer Event
DESCRIPTION:Meet with our admissions staff and advisors about completing a bachelor's or master's degree\, or both. We can help you to apply\, transfer credits\, search for financial aid\, and schedule classes.
X-ALT-DESC;FMTTYPE=text/html:Meet with our admissions staff and advisors about completing a bachelor&#39\;s or master&#39\;s degree\, or both. We can help you to apply\, transfer credits\, search for financial aid\, and schedule classes.
LOCATION:Mount Saint Mary College\, Aquinas Hall/MST Atrium 330 Powell Avenue\, Newburgh\, NY 12550
UID:e.2770.10480198
SEQUENCE:3
DTSTAMP:20260425T123752Z
URL:http://dutchesscountyregional.smartcms.site/events/details/msmc-graduate-and-adult-degree-completion-programs-transfer-event-01-08-2019-10480198
END:VEVENT

END:VCALENDAR
