BEGIN:VCALENDAR
VERSION:2.0
PRODID:-//ChamberMaster//Event Calendar 2.0//EN
METHOD:PUBLISH
X-PUBLISHED-TTL:P3D
REFRESH-INTERVAL:P3D
CALSCALE:GREGORIAN
BEGIN:VEVENT
DTSTART:20210413T130000Z
DTEND:20210413T140000Z
X-MICROSOFT-CDO-ALLDAYEVENT:FALSE
SUMMARY:MWBE Certification- Demystified
DESCRIPTION:MWBE certification helps you reach a broader network of customers\, contracts and resources!\n\n\n\nWebinar Topics:\n\n\n	\n	What is MWBE certification?\n	\n	\n	The benefits of certification\n	\n	\n	Am I eligible to apply?\n	\n	\n	What is the certification process?
X-ALT-DESC;FMTTYPE=text/html:<p><span style="font-size:16px">MWBE certification helps you reach a broader network of customers\, contracts and resources!<br />\n<br />\n<strong>Webinar Topics:</strong></span></p>\n\n<ul>\n	<li>\n	<p><span style="font-size:16px">What is MWBE certification?</span></p>\n	</li>\n	<li>\n	<p><span style="font-size:16px">The benefits of certification</span></p>\n	</li>\n	<li>\n	<p><span style="font-size:16px">Am I eligible to apply?</span></p>\n	</li>\n	<li>\n	<p><span style="font-size:16px">What is the certification process?</span></p>\n	</li>\n</ul>\n
LOCATION:Online
UID:e.2770.10484831
SEQUENCE:3
DTSTAMP:20260421T114557Z
URL:http://dutchesscountyregional.smartcms.site/events/details/mwbe-certification-demystified-10484831
END:VEVENT

END:VCALENDAR
