BEGIN:VCALENDAR
VERSION:2.0
PRODID:-//ChamberMaster//Event Calendar 2.0//EN
METHOD:PUBLISH
X-PUBLISHED-TTL:P3D
REFRESH-INTERVAL:P3D
CALSCALE:GREGORIAN
BEGIN:VEVENT
DTSTART:20181209T203000Z
DTEND:20181209T230000Z
X-MICROSOFT-CDO-ALLDAYEVENT:FALSE
SUMMARY:Nancy Kerrigan Hosts The Holiday Gift on Ice
DESCRIPTION:Join us for an amazing holiday figure skating performance hosted by Olympic figure skater\, Nancy Kerrigan! Performances by National Level Figure Skaters & the McCann Skating Academy! Get ready\, you are in for a real holiday treat! Tickets: General Admission $25.00 On sale now at MHCC Box Office and ticketmaster.com!
X-ALT-DESC;FMTTYPE=text/html:Join us for an amazing holiday figure skating performance hosted by Olympic figure skater\, Nancy Kerrigan! Performances by National Level Figure Skaters &amp\; the McCann Skating Academy! Get ready\, you are in for a real holiday treat! Tickets: General Admission $25.00 On sale now at MHCC Box Office and ticketmaster.com!
LOCATION:Mid Hudson Civic Center 14 Civic Center Plaza Poughkeepsie\, NY 12601
UID:e.2770.10479918
SEQUENCE:3
DTSTAMP:20260425T142522Z
URL:http://dutchesscountyregional.smartcms.site/events/details/nancy-kerrigan-hosts-the-holiday-gift-on-ice-10479918
END:VEVENT

END:VCALENDAR
