BEGIN:VCALENDAR
VERSION:2.0
PRODID:-//ChamberMaster//Event Calendar 2.0//EN
METHOD:PUBLISH
X-PUBLISHED-TTL:P3D
REFRESH-INTERVAL:P3D
CALSCALE:GREGORIAN
BEGIN:VEVENT
DTSTART:20210101T050000Z
DTEND:20210131T170000Z
X-MICROSOFT-CDO-ALLDAYEVENT:FALSE
SUMMARY:New Year\, New me
DESCRIPTION:Buy 1 Cool Sculpting cycle\, get 1 Cool Sculpting cycle FREE 25% off liposuction of 1 area\, plus a free Metabolism Boost IV infusion Buy 2 get 1 FREE Metabolism Boost IV Infusions Buy 2 get 1 FREE Facials and Chemical Peels
X-ALT-DESC;FMTTYPE=text/html:Buy 1 Cool Sculpting cycle\, get 1 Cool Sculpting cycle FREE 25% off liposuction of 1 area\, plus a free Metabolism Boost IV infusion Buy 2 get 1 FREE Metabolism Boost IV Infusions Buy 2 get 1 FREE Facials and Chemical Peels
LOCATION:New Beginnings Plastic Surgery
UID:e.2770.10484839
SEQUENCE:3
DTSTAMP:20260421T162547Z
URL:http://dutchesscountyregional.smartcms.site/events/details/new-year-new-me-10484839
END:VEVENT

END:VCALENDAR
