BEGIN:VCALENDAR
VERSION:2.0
PRODID:-//ChamberMaster//Event Calendar 2.0//EN
METHOD:PUBLISH
X-PUBLISHED-TTL:P3D
REFRESH-INTERVAL:P3D
CALSCALE:GREGORIAN
BEGIN:VEVENT
DTSTART:20190214T140000Z
DTEND:20190215T020000Z
X-MICROSOFT-CDO-ALLDAYEVENT:FALSE
SUMMARY:New Yorker's Chorus: Singing Valentines
DESCRIPTION:Surprise a loved one with a singing valentine anywhere in Orange\, Dutchess or Ulster Counties. 4 men dressed in tuxedos will deliver 2 short love songs with a long stem rose on Valentines Day. Additional roses available at additional cost.
X-ALT-DESC;FMTTYPE=text/html:Surprise a loved one with a singing valentine anywhere in Orange\, Dutchess or Ulster Counties. 4 men dressed in tuxedos will deliver 2 short love songs with a long stem rose on Valentines Day. Additional roses available at additional cost.
LOCATION:Orange\, Dutchess and Ulster Counties
UID:e.2770.10480472
SEQUENCE:3
DTSTAMP:20260423T083918Z
URL:http://dutchesscountyregional.smartcms.site/events/details/new-yorker-s-chorus-singing-valentines-10480472
END:VEVENT

END:VCALENDAR
