BEGIN:VCALENDAR
VERSION:2.0
PRODID:-//ChamberMaster//Event Calendar 2.0//EN
METHOD:PUBLISH
X-PUBLISHED-TTL:P3D
REFRESH-INTERVAL:P3D
CALSCALE:GREGORIAN
BEGIN:VEVENT
DTSTART:20190409T143000Z
DTEND:20190409T193000Z
X-MICROSOFT-CDO-ALLDAYEVENT:FALSE
SUMMARY:NewYork-Presbyterian Farmers Market
DESCRIPTION:Count on selections from your favorite vendors for fresh fruits\, vegetables\, eggs\, spices\, cheeses\, healthy desserts and artisan baked goods.
X-ALT-DESC;FMTTYPE=text/html:Count on selections from your favorite vendors for fresh fruits\, vegetables\, eggs\, spices\, cheeses\, healthy desserts and artisan baked goods.
LOCATION:NewYork-Presbyterian Hudson Valley Hospital 1980 Crompond Road Cortlandt Manor\, NY Main Lobby
UID:e.2770.10480591
SEQUENCE:3
DTSTAMP:20260423T055544Z
URL:http://dutchesscountyregional.smartcms.site/events/details/newyork-presbyterian-farmers-market-10480591
END:VEVENT

END:VCALENDAR
