BEGIN:VCALENDAR
VERSION:2.0
PRODID:-//ChamberMaster//Event Calendar 2.0//EN
METHOD:PUBLISH
X-PUBLISHED-TTL:P3D
REFRESH-INTERVAL:P3D
CALSCALE:GREGORIAN
BEGIN:VEVENT
DTSTART:20190403T213000Z
DTEND:20190404T000000Z
X-MICROSOFT-CDO-ALLDAYEVENT:FALSE
SUMMARY:NewYork-Presbyterian Hudson Valley Hospital’s Annual Wine and Dine
DESCRIPTION:There is still time to purchase tickets and join us at the Sleepy Hollow Country Club for a special culinary experience that also supports the hospital's Cancer Center. We are excited that many of the Hudson Valley region's finest restauranteurs and wine merchants have made generous contributions of delicious offerings.
X-ALT-DESC;FMTTYPE=text/html:There is still time to purchase tickets and join us at the Sleepy Hollow Country Club for a special culinary experience that also supports the hospital&rsquo\;s Cancer Center. We are excited that many of the Hudson Valley region&rsquo\;s finest restauranteurs and wine merchants have made generous contributions of delicious offerings.
LOCATION:Sleepy Hollow Country Club\, 777 Albany Post Road\, Briarcliff Manor
UID:e.2770.10480590
SEQUENCE:3
DTSTAMP:20260423T055544Z
URL:http://dutchesscountyregional.smartcms.site/events/details/newyork-presbyterian-hudson-valley-hospital-s-annual-wine-and-dine-10480590
END:VEVENT

END:VCALENDAR
