BEGIN:VCALENDAR
VERSION:2.0
PRODID:-//ChamberMaster//Event Calendar 2.0//EN
METHOD:PUBLISH
X-PUBLISHED-TTL:P3D
REFRESH-INTERVAL:P3D
CALSCALE:GREGORIAN
BEGIN:VEVENT
DTSTART:20191016T113000Z
DTEND:20191016T130000Z
X-MICROSOFT-CDO-ALLDAYEVENT:FALSE
SUMMARY:October Contact Breakfast
DESCRIPTION:***Please note if you try to register after 5:30 PM on Tuesday\, October 15th you will NOT be on our registration list. Please report to the UNPAID Table when you arrive. Thank You\n\n\n\nMonthly Contact Breakfast featuring a forum with candidates for Dutchess County Executive - incumbent Marcus Molinaro and Joseph Ruggiero.\n\n\n\nQuestions regarding economic-related issues in Dutchess County will be collected and reviewed in advance by the Chamber's Legislative Action Committee. You may be send questions for consideration to richk@dcrcoc.   \n\n\n\nAs you all know\, there are many people in need of our assistance. The Chamber's Ambassador committee has partnered with our Workforce Development Center to collect canned and dry goods at our Contact Breakfast. Your donations are greatly appreciated.\n\n\n\nSponsored by: Hudson Valley Credit Union\n\nNonprofits: The Art Effect\, Hudson Valley Community Services\, and Sparrow's Nest
X-ALT-DESC;FMTTYPE=text/html:<p><strong><span style="color:red\;"><span style="font-family:calibri\,sans-serif\;"><span style="font-size:13.5pt\;">***Please note if&nbsp\;you try to register after 5:30 PM on Tuesday\,&nbsp\;October 15th&nbsp\;you will NOT be on our registration list. Please report to the UNPAID Table when you arrive. Thank You</span></span></span></strong><br />\n<br />\n<span style="font-size: 14px\;"><span style="font-family: arial\;">Monthly Contact Breakfast featuring a forum with candidates for Dutchess County Executive - incumbent Marcus Molinaro and Joseph Ruggiero.<br />\n<br />\nQuestions regarding economic-related issues in Dutchess County will be collected and reviewed in advance by the Chamber&#39\;s Legislative Action Committee. You may be send&nbsp\;questions for consideration to <a href="mailto:richk@dcrcoc.org">richk@dcrcoc</a>.&nbsp\;&nbsp\;&nbsp\;<br />\n<br />\n<strong style="color: rgb(51\, 51\, 51)\; font-family: sans-serif\, Arial\, Verdana\, &quot\;Trebuchet MS&quot\;\; font-size: 13px\; background-color: rgb(255\, 255\, 255)\;">As you all know\, there are many people in need of our assistance. The Chamber&#39\;s Ambassador committee has partnered with our Workforce Development Center to collect canned and dry goods at our Contact Breakfast. Your donations are greatly appreciated.</strong><br />\n<br />\n<strong style="color: rgb(51\, 51\, 51)\; font-family: sans-serif\, Arial\, Verdana\, &quot\;Trebuchet MS&quot\;\; font-size: 13px\; background-color: rgb(255\, 255\, 255)\;">Sponsored by: <a href="https://www.hvfcu.org/" target="_blank"><span style="color: rgb(0\, 0\, 255)\;">Hudson Valley&nbsp\;Credit Union</span></a><br />\nNonprofits: <u>The Art Effect</u>\, <u>Hudson Valley Community Services</u>\, and <u>Sparrow&#39\;s Nest</u></strong></span></span></p>\n
LOCATION:The Poughkeepsie Grand Hotel & Conference Center 40 Civic Center Plaza Poughkeepsie\, NY 12601
UID:e.2770.10479896
SEQUENCE:3
DTSTAMP:20260422T190840Z
URL:http://dutchesscountyregional.smartcms.site/events/details/october-contact-breakfast-10479896
END:VEVENT

END:VCALENDAR
