BEGIN:VCALENDAR
VERSION:2.0
PRODID:-//ChamberMaster//Event Calendar 2.0//EN
METHOD:PUBLISH
X-PUBLISHED-TTL:P3D
REFRESH-INTERVAL:P3D
CALSCALE:GREGORIAN
BEGIN:VEVENT
DTSTART:20190218T151500Z
DTEND:20190218T201500Z
X-MICROSOFT-CDO-ALLDAYEVENT:FALSE
SUMMARY:Olympic Figure Skating Seminar at IceTime Sports Complex
DESCRIPTION:Calling All Future Olympians! You don't want to miss our third Olympic level seminar at IceTime Sports Complex in Newburgh\, New York! (Our first two Olympic Seminars were amazing...we had to bring it back!) This seminar is designed for all the skaters from No-Test to Senior levels. The seminar will be run by Mid-Hudson Civic Center Inc. ice skating director\, Gilberto Viadana\; International level coach\, ISU Technical Specialist. Fabio Mascarello\; International level coach\, ISU technical specialist. Oleg Makarov & Larissa Selezneva\; Russian former pair Olympic skaters\, 1984 Bronze medalist\, 1985 World Silver medalist\, 1988 World Bronze medalist and two-time European champion 1987 & 1989. Martina Viadana\; Modern Dancer\, expert in Horton technique\, and professional dancer at the Alvin Ailey School of Dance. On Ice : 10:15am 12:15pm Off Ice : 12:20pm 1:20pm On Ice : 2:15pm 3:15pm Registration Required. Please visit our website for registration details http://www.icetimesports.org/skating-camps-clinics.php.
X-ALT-DESC;FMTTYPE=text/html:Calling All Future Olympians! You don&rsquo\;t want to miss our third Olympic level seminar at IceTime Sports Complex in Newburgh\, New York! (Our first two Olympic Seminars were amazing...we had to bring it back!) This seminar is designed for all the skaters from No-Test to Senior levels. The seminar will be run by Mid-Hudson Civic Center Inc. ice skating director\, Gilberto Viadana\; International level coach\, ISU Technical Specialist. Fabio Mascarello\; International level coach\, ISU technical specialist. Oleg Makarov &amp\; Larissa Selezneva\; Russian former pair Olympic skaters\, 1984 Bronze medalist\, 1985 World Silver medalist\, 1988 World Bronze medalist and two-time European champion 1987 &amp\; 1989. Martina Viadana\; Modern Dancer\, expert in Horton technique\, and professional dancer at the Alvin Ailey School of Dance. On Ice : 10:15am&mdash\;12:15pm Off Ice : 12:20pm&mdash\;1:20pm On Ice : 2:15pm&mdash\;3:15pm Registration Required. Please visit our website for registration details http://www.icetimesports.org/skating-camps-clinics.php.
LOCATION:Ice Time Sports Complex
UID:e.2770.10480476
SEQUENCE:3
DTSTAMP:20260423T084030Z
URL:http://dutchesscountyregional.smartcms.site/events/details/olympic-figure-skating-seminar-at-icetime-sports-complex-10480476
END:VEVENT

END:VCALENDAR
