BEGIN:VCALENDAR
VERSION:2.0
PRODID:-//ChamberMaster//Event Calendar 2.0//EN
METHOD:PUBLISH
X-PUBLISHED-TTL:P3D
REFRESH-INTERVAL:P3D
CALSCALE:GREGORIAN
BEGIN:VEVENT
DTSTART:20190606T123000Z
DTEND:20190606T200000Z
X-MICROSOFT-CDO-ALLDAYEVENT:FALSE
SUMMARY:Our New World Conference: Rise to the Challenge
DESCRIPTION:Putnam Score and WEDC invite you to the Second Annual Women's Conference.  Includes breakfast\, lunch\, 7 great workshop options\, and significant networking opportunities.
X-ALT-DESC;FMTTYPE=text/html:<p><span style="font-size:16px">Putnam Score and WEDC invite you to the Second Annual Women&#39\;s Conference.&nbsp\; Includes breakfast\, lunch\, 7 great workshop options\, and significant networking opportunities.</span></p>\n
LOCATION:Putnam County Golf Club 187 Hill St. Mahopac\, NY 10541
UID:e.2770.10480707
SEQUENCE:3
DTSTAMP:20260423T021342Z
URL:http://dutchesscountyregional.smartcms.site/events/details/our-new-world-conference-rise-to-the-challenge-10480707
END:VEVENT

END:VCALENDAR
