BEGIN:VCALENDAR
VERSION:2.0
PRODID:-//ChamberMaster//Event Calendar 2.0//EN
METHOD:PUBLISH
X-PUBLISHED-TTL:P3D
REFRESH-INTERVAL:P3D
CALSCALE:GREGORIAN
BEGIN:VEVENT
DTSTART:20200506T211500Z
DTEND:20200506T221500Z
X-MICROSOFT-CDO-ALLDAYEVENT:FALSE
SUMMARY:Outsmart the Scammers Webinar hosted by John Leigh\, Financial Advisor at Edward Jones
DESCRIPTION:John Leigh is hosting a free online webinar on Wednesday\, May 6\, 2020 from 5:15pm-6:15pm.\n\n        Incidents of fraud are on the rise and scammers' tactics are becoming more complex.* This presentation will help give attendees the information they need to Outsmart the Scammers. During the program\, we'll discuss how to spot certain red flags that may indicate a fraudulent encounter\, resources individuals can turn to in the event they or a loved one are targeted\, and steps attendees can take now to help protect themselves and loved ones.
X-ALT-DESC;FMTTYPE=text/html:John Leigh is hosting a free&nbsp\;online webinar on Wednesday\, May 6\, 2020 from 5:15pm-6:15pm.<br />\n&nbsp\;&nbsp\;&nbsp\;&nbsp\;&nbsp\;&nbsp\;&nbsp\; Incidents of fraud are on the rise and scammers&#39\; tactics are becoming more complex.* This presentation will help give attendees the information they need to <em>Outsmart the Scammers. </em>During the program\, we&#39\;ll discuss how to spot certain red flags that may indicate a fraudulent encounter\, resources individuals can turn to in the event they or a loved one are targeted\, and steps attendees can take now to help protect themselves and loved ones.
LOCATION:Online Webinar
UID:e.2770.10483269
SEQUENCE:3
DTSTAMP:20260422T053846Z
URL:http://dutchesscountyregional.smartcms.site/events/details/outsmart-the-scammers-webinar-hosted-by-john-leigh-financial-advisor-at-edward-jones-10483269
END:VEVENT

END:VCALENDAR
