BEGIN:VCALENDAR
VERSION:2.0
PRODID:-//ChamberMaster//Event Calendar 2.0//EN
METHOD:PUBLISH
X-PUBLISHED-TTL:P3D
REFRESH-INTERVAL:P3D
CALSCALE:GREGORIAN
BEGIN:VEVENT
DTSTART:20200523T140000Z
DTEND:20200523T180000Z
X-MICROSOFT-CDO-ALLDAYEVENT:FALSE
SUMMARY:Pandemic "Can"demic Drive-Thru Food Drive to Benefit Dutchess Outeach
DESCRIPTION:Drive-Thru Food Drive to benefit Dutchess Outreach feeding hundreds of families a day!\n\n(see photo for list of requested non-perishables)\n\n\n\nStay in your vehicle\, drive through to donate\, support local food trucks serving 50's-style "car hop" and watch the show as local car clubs show off their favorite wheels.  \n\n\n\nQ92's Joe Daily Broadcasting Live!
X-ALT-DESC;FMTTYPE=text/html:Drive-Thru Food Drive to benefit Dutchess Outreach feeding hundreds of families a day!<br />\n(see photo for list of requested non-perishables)<br />\n<br />\nStay in your vehicle\, drive through to donate\, support local food trucks serving 50&#39\;s-style &quot\;car hop&quot\; and watch the show as local car clubs show off their favorite wheels.&nbsp\;&nbsp\;<br />\n<br />\nQ92&#39\;s Joe Daily Broadcasting Live!&nbsp\;&nbsp\;
LOCATION:Poughkeepsie Galleria (Macy's Parking Lot) 2001 South Road\, Poughkeepsie
UID:e.2770.10483291
SEQUENCE:3
DTSTAMP:20260422T053930Z
URL:http://dutchesscountyregional.smartcms.site/events/details/pandemic-can-demic-drive-thru-food-drive-to-benefit-dutchess-outeach-10483291
END:VEVENT

END:VCALENDAR
