BEGIN:VCALENDAR
VERSION:2.0
PRODID:-//ChamberMaster//Event Calendar 2.0//EN
METHOD:PUBLISH
X-PUBLISHED-TTL:P3D
REFRESH-INTERVAL:P3D
CALSCALE:GREGORIAN
BEGIN:VEVENT
DTSTART:20210326T160000Z
DTEND:20210326T160000Z
X-MICROSOFT-CDO-ALLDAYEVENT:FALSE
SUMMARY:PartyTime Rentals hosts American Red Cross Blood Drive
DESCRIPTION:PartyTime Rentals is hosting a blood drive on Friday\, March 26th from 12pm - 6pm. Blood donations are essential\, your donation can save up to THREE lives! Schedule your donation HERE.
X-ALT-DESC;FMTTYPE=text/html:<span style="color:rgb(0\, 0\, 0)\; font-family:proxima-nova\,helvetica\,arial\,sans-serif\; font-size:15px">PartyTime Rentals is hosting a blood drive on Friday\, March 26th from 12pm - 6pm. Blood donations are essential\, your donation can save up to THREE lives! Schedule your donation <a href="https://www.redcrossblood.org/give.html/drive-results?zipSponsor=PartyTime">HERE</a>.</span>
LOCATION:PartyTime Rentals 2575 Route 55 Poughquag\, NY 12570
UID:e.2770.10484997
SEQUENCE:3
DTSTAMP:20260421T132209Z
URL:http://dutchesscountyregional.smartcms.site/events/details/partytime-rentals-hosts-american-red-cross-blood-drive-10484997
END:VEVENT

END:VCALENDAR
