BEGIN:VCALENDAR
VERSION:2.0
PRODID:-//ChamberMaster//Event Calendar 2.0//EN
METHOD:PUBLISH
X-PUBLISHED-TTL:P3D
REFRESH-INTERVAL:P3D
CALSCALE:GREGORIAN
BEGIN:VEVENT
DTSTART:20210114T230000Z
DTEND:20210115T010000Z
X-MICROSOFT-CDO-ALLDAYEVENT:FALSE
SUMMARY:Path to Entrepreneurship Program
DESCRIPTION:What do you need to start a successful business?\n\n\n\nLearn how to: \n\n\n	\n	Plan to start your business\n	\n	\n	Finance your new business\n	\n	\n	Market your new products & services\n	\n	\n	Build your business network
X-ALT-DESC;FMTTYPE=text/html:<p><span style="font-size:16px"><em><strong>What do you need to start a successful business?</strong></em><br />\n<br />\nLearn how to:&nbsp\;</span></p>\n\n<ul>\n	<li>\n	<p><span style="font-size:16px">Plan to start your business</span></p>\n	</li>\n	<li>\n	<p><span style="font-size:16px">Finance your new business</span></p>\n	</li>\n	<li>\n	<p><span style="font-size:16px">Market your new products &amp\; services</span></p>\n	</li>\n	<li>\n	<p><span style="font-size:16px">Build your business network</span></p>\n	</li>\n</ul>\n
LOCATION:Online
UID:e.2770.10484792
SEQUENCE:3
DTSTAMP:20260421T175843Z
URL:http://dutchesscountyregional.smartcms.site/events/details/path-to-entrepreneurship-program-01-14-2021-10484792
END:VEVENT

END:VCALENDAR
