BEGIN:VCALENDAR
VERSION:2.0
PRODID:-//ChamberMaster//Event Calendar 2.0//EN
METHOD:PUBLISH
X-PUBLISHED-TTL:P3D
REFRESH-INTERVAL:P3D
CALSCALE:GREGORIAN
BEGIN:VEVENT
DTSTART:20190819T220000Z
DTEND:20190820T000000Z
X-MICROSOFT-CDO-ALLDAYEVENT:FALSE
SUMMARY:Path to Entrepreneurship Program
DESCRIPTION:Do you want to get introduced to small business ownership?  Join this content-rich\, free\, two-hour workshop on Monday\, August 19th in Newburgh from 6pm - 8pm!  We will discuss the selection of a winning business idea\, location of the business and other keys to success\, financing options\, and much more.\n\n\n\nFind out now if you have what it takes to be a successful entrepreneur!
X-ALT-DESC;FMTTYPE=text/html:<p><span style="font-size:16px">Do you want to get introduced to small business ownership?&nbsp\; Join this content-rich\, free\, two-hour workshop on Monday\, August 19th in Newburgh from 6pm - 8pm!&nbsp\; We will discuss the selection of a winning business idea\, location of the business and other keys to success\, financing options\, and much more.<br />\n<br />\nFind out now if you have what it takes to be a successful entrepreneur!</span></p>\n
LOCATION:Newburgh Free Library 124 Grand Street Newburgh\, NY 12550
UID:e.2770.10480741
SEQUENCE:3
DTSTAMP:20260422T223333Z
URL:http://dutchesscountyregional.smartcms.site/events/details/path-to-entrepreneurship-program-08-21-2019-10480741
END:VEVENT

END:VCALENDAR
