BEGIN:VCALENDAR
VERSION:2.0
PRODID:-//ChamberMaster//Event Calendar 2.0//EN
METHOD:PUBLISH
X-PUBLISHED-TTL:P3D
REFRESH-INTERVAL:P3D
CALSCALE:GREGORIAN
BEGIN:VEVENT
DTSTART:20200901T220000Z
DTEND:20200902T000000Z
X-MICROSOFT-CDO-ALLDAYEVENT:FALSE
SUMMARY:Path to Entrepreneurship Program
DESCRIPTION:Get introduced to small business ownership through this content-rich\, free\, two-hour presentation. It is a great time investment. \n\n \n\nWe will discuss:\n\n\n\n\n\n\n\n\n\n\n\n	\n	Location of the business and other keys to success\n	\n	\n	Importance of a business plan\n	\n	\n	Building and taking advantage of your network\n	\n	\n	Financing options\n	\n	\n	Characteristics of a successful entrepreneur\n	\n	\n	Advantages and disadvantages of becoming an entrepreneur\n	\n	\n	Selection of a winning business idea\n	\n	\n	Market feasibility\, financial viability\, and operational sustainability
X-ALT-DESC;FMTTYPE=text/html:<div>\n<div>\n<div style="text-align:center">\n<div>\n<div>\n<div>\n<div>\n<p><span style="font-size:16px">Get introduced to small business ownership through this content-rich\, free\, two-hour presentation. It is a great time investment. </span><br />\n&nbsp\;</p>\n\n<p style="text-align: left\;"><span style="font-size:16px"><strong>We will discuss:</strong></span></p>\n</div>\n</div>\n</div>\n</div>\n</div>\n</div>\n</div>\n\n<div>\n<div>\n<ul>\n	<li>\n	<p><span style="font-size:16px">Location of the business and other keys to success</span></p>\n	</li>\n	<li>\n	<p><span style="font-size:16px">Importance of a business plan</span></p>\n	</li>\n	<li>\n	<p><span style="font-size:16px">Building and taking advantage of your network</span></p>\n	</li>\n	<li>\n	<p><span style="font-size:16px">Financing options</span></p>\n	</li>\n	<li>\n	<p><span style="font-size:16px">Characteristics of a successful entrepreneur</span></p>\n	</li>\n	<li>\n	<p><span style="font-size:16px">Advantages and disadvantages of becoming an entrepreneur</span></p>\n	</li>\n	<li>\n	<p><span style="font-size:16px">Selection of a winning business idea</span></p>\n	</li>\n	<li>\n	<p><span style="font-size:16px">Market feasibility\, financial viability\, and operational sustainability</span></p>\n	</li>\n</ul>\n</div>\n</div>\n
LOCATION:Online
UID:e.2770.10484160
SEQUENCE:3
DTSTAMP:20260421T224855Z
URL:http://dutchesscountyregional.smartcms.site/events/details/path-to-entrepreneurship-program-09-01-2020-10484160
END:VEVENT

END:VCALENDAR
