BEGIN:VCALENDAR
VERSION:2.0
PRODID:-//ChamberMaster//Event Calendar 2.0//EN
METHOD:PUBLISH
X-PUBLISHED-TTL:P3D
REFRESH-INTERVAL:P3D
CALSCALE:GREGORIAN
BEGIN:VEVENT
DTSTART:20190130T230000Z
DTEND:20190131T010000Z
X-MICROSOFT-CDO-ALLDAYEVENT:FALSE
SUMMARY:Path to Entrepreneurship Program - Poughkeepsie
DESCRIPTION:Do you have what it takes to be a successful entrepreneur?  Find out now!\n\n\n\nThe Path to Entrepreneurship is a two hour presentation designed to introduce you to small business ownership. Some of the topics discussed include:\n\n\n	\n	Definition of a business\n	\n	\n	Advantages and disadvantages of becoming an entrepreneur\n	\n	\n	Characteristics of an entrepreneur\n	\n	\n	Selection of business idea\n	\n	\n	Feasibility\, viability\, and convenience\n	\n	\n	Definition/Importance of a business plan\n	\n	\n	Business description\n	\n	\n	Location of the business\n	\n	\n	Financing\n	\n\n\n\n\nAttendees will also learn about the other services WEDC offers to clients including information about a more comprehensive business training course.
X-ALT-DESC;FMTTYPE=text/html:<p><span style="font-size:16px"><span style="background-color:rgb(255\, 255\, 255)\; color:rgb(29\, 33\, 41)\; font-family:helvetica\,arial\,sans-serif">Do you have what it takes to be a successful entrepreneur?&nbsp\;&nbsp\;Find out now!</span><br />\n<br />\n<span style="background-color:rgb(255\, 255\, 255)\; color:rgb(29\, 33\, 41)\; font-family:helvetica\,arial\,sans-serif">The Path to Entrepreneurship is a two hour presentation designed to introduce you to small business ownership. Some of the topics discussed include:</span></span></p>\n\n<ul>\n	<li>\n	<p><span style="font-size:16px"><span style="background-color:rgb(255\, 255\, 255)\; color:rgb(29\, 33\, 41)\; font-family:helvetica\,arial\,sans-serif">Definition of a business</span></span></p>\n	</li>\n	<li>\n	<p><span style="font-size:16px"><span style="background-color:rgb(255\, 255\, 255)\; color:rgb(29\, 33\, 41)\; font-family:helvetica\,arial\,sans-serif">Advantages and disadvantages of becoming an entrepreneur</span></span></p>\n	</li>\n	<li>\n	<p><span style="font-size:16px"><span style="background-color:rgb(255\, 255\, 255)\; color:rgb(29\, 33\, 41)\; font-family:helvetica\,arial\,sans-serif">Characteristics of an entrepreneur</span></span></p>\n	</li>\n	<li>\n	<p><span style="font-size:16px"><span style="background-color:rgb(255\, 255\, 255)\; color:rgb(29\, 33\, 41)\; font-family:helvetica\,arial\,sans-serif">Selection of business idea</span></span></p>\n	</li>\n	<li>\n	<p><span style="font-size:16px"><span style="background-color:rgb(255\, 255\, 255)\; color:rgb(29\, 33\, 41)\; font-family:helvetica\,arial\,sans-serif">Feasibility\, viability\, and convenience</span></span></p>\n	</li>\n	<li>\n	<p><span style="font-size:16px"><span style="background-color:rgb(255\, 255\, 255)\; color:rgb(29\, 33\, 41)\; font-family:helvetica\,arial\,sans-serif">Definition/Importance of a business plan</span></span></p>\n	</li>\n	<li>\n	<p><span style="font-size:16px"><span style="background-color:rgb(255\, 255\, 255)\; color:rgb(29\, 33\, 41)\; font-family:helvetica\,arial\,sans-serif">Business description</span></span></p>\n	</li>\n	<li>\n	<p><span style="font-size:16px"><span style="background-color:rgb(255\, 255\, 255)\; color:rgb(29\, 33\, 41)\; font-family:helvetica\,arial\,sans-serif">Location of the business</span></span></p>\n	</li>\n	<li>\n	<p><span style="font-size:16px"><span style="background-color:rgb(255\, 255\, 255)\; color:rgb(29\, 33\, 41)\; font-family:helvetica\,arial\,sans-serif">Financing</span></span></p>\n	</li>\n</ul>\n\n<p><br />\n<span style="font-size:16px"><span style="background-color:rgb(255\, 255\, 255)\; color:rgb(29\, 33\, 41)\; font-family:helvetica\,arial\,sans-serif">Attendees will also learn about the other services WEDC offers to clients including information about a more comprehensive business training course.</span></span></p>\n
LOCATION:Think Dutchess 3 Neptune Road Suite A21 Poughkeepsie\, NY 12601
UID:e.2770.10479841
SEQUENCE:3
DTSTAMP:20260425T123630Z
URL:http://dutchesscountyregional.smartcms.site/events/details/path-to-entrepreneurship-program-poughkeepsie-10479841
END:VEVENT

END:VCALENDAR
