BEGIN:VCALENDAR
VERSION:2.0
PRODID:-//ChamberMaster//Event Calendar 2.0//EN
METHOD:PUBLISH
X-PUBLISHED-TTL:P3D
REFRESH-INTERVAL:P3D
CALSCALE:GREGORIAN
BEGIN:VEVENT
DTSTART:20190820T220000Z
DTEND:20190821T000000Z
X-MICROSOFT-CDO-ALLDAYEVENT:FALSE
SUMMARY:Path to the Entrepreneurship Program
DESCRIPTION:Do you want to get introduced to small business ownership?  Join this content-rich\, free\, two-hour workshop on Tuesday\, August 20th in Poughkeepsie from 6pm - 8pm.  We will discuss the selection of a winning business idea\, location of the business and other keys to success\, financing options\, and much more.\n\n\n\nFind out now if you have what it takes to be a successful entrepreneur!
X-ALT-DESC;FMTTYPE=text/html:<p><span style="font-size:16px">Do you want to get introduced to small business ownership?&nbsp\; Join this content-rich\, free\, two-hour workshop on Tuesday\, August 20th in Poughkeepsie from 6pm - 8pm.&nbsp\; We will discuss the selection of a winning business idea\, location of the business and other keys to success\, financing options\, and much more.<br />\n<br />\nFind out now if you have what it takes to be a successful entrepreneur!</span></p>\n
LOCATION:Think Dutchess 3 Neptune Road\, Suite A21 Poughkeepsie\, NY 12601
UID:e.2770.10480740
SEQUENCE:3
DTSTAMP:20260422T223243Z
URL:http://dutchesscountyregional.smartcms.site/events/details/path-to-the-entrepreneurship-program-10480740
END:VEVENT

END:VCALENDAR
