BEGIN:VCALENDAR
VERSION:2.0
PRODID:-//ChamberMaster//Event Calendar 2.0//EN
METHOD:PUBLISH
X-PUBLISHED-TTL:P3D
REFRESH-INTERVAL:P3D
CALSCALE:GREGORIAN
BEGIN:VEVENT
DTSTART:20190329T220000Z
DTEND:20190330T010000Z
X-MICROSOFT-CDO-ALLDAYEVENT:FALSE
SUMMARY:Pearls and Spirits
DESCRIPTION:Pearls bring the positive energy of water and healing to their owner. They can assist in calming and centering much like crystals and gemstones. \n\nJoin Laurie Myint at The Source NY as she shares the power of the Pearl\, provides live oyster demonstrations\, and the opportunity to custom design the perfect pearl jewelry to assist in your spiritual journey. \n\nTarot card & Spirit readings $25 for 15 minutes will be available by appointment w/ Stacey. Must book in advance and arrive on time.\n\nVisit thesource-ny.com Call 845-214-0452 to RSVP\n\n\n\n"When life gets chaotic it's time to return to The Source NY"
X-ALT-DESC;FMTTYPE=text/html:<span style="color: rgb(29\, 33\, 41)\; font-family: helvetica\,arial\,sans-serif\; font-size: 14px\;">Pearls bring the positive energy of water and healing to their owner. They can assist in calming and centering much like crystals and gemstones. </span><br />\n<span style="color: rgb(29\, 33\, 41)\; font-family: helvetica\,arial\,sans-serif\; font-size: 14px\;">Join Laurie Myint at The Source NY as she shares the power of the Pearl\, provides live oyster demonstrations\, and the opportunity to custom design the perfect pearl jewelry to assist in your spiritual journey. </span><br />\n<span style="color: rgb(29\, 33\, 41)\; font-family: helvetica\,arial\,sans-serif\; font-size: 14px\;">Tarot card &amp\; Spirit readings $25 for 15 minutes will be available by appointment w/ Stacey. Must book in advance and arrive on time.</span><br />\n<span style="color: rgb(29\, 33\, 41)\; font-family: helvetica\,arial\,sans-serif\; font-size: 14px\;">Visit </span><a href="https://l.facebook.com/l.php?u=http%3A%2F%2Fthesource-ny.com%2F%3Ffbclid%3DIwAR2vjCeUXOD9J_hLXEwcr9_DQMf5gLhvgwV88MLC5b0KOxUDc_5wex60sqw&amp\;h=AT15_FpBeuB7lCG9g8IxmOqgLu2B-dmK6TTgUFfe4XoKz3seJrS8Qr2-Gh3-rzMI_NNLvSHjAkrHS1Z91TUw7nyjA-4AXVGJ5nXBxgoQi31S0h7GFRG2tFt0KBYnfEbYnAF_" rel="nofollow noopener" style="color: rgb(54\, 88\, 153)\; font-family: Helvetica\, Arial\, sans-serif\; font-size: 14px\; white-space: pre-wrap\; cursor: pointer\; text-decoration-line: none\;" target="_blank">thesource-ny.com</a><span style="color: rgb(29\, 33\, 41)\; font-family: helvetica\,arial\,sans-serif\; font-size: 14px\;"> Call 845-214-0452 to RSVP</span><br />\n<br />\n<span style="color: rgb(29\, 33\, 41)\; font-family: helvetica\,arial\,sans-serif\; font-size: 14px\;">&quot\;When life gets chaotic it&#39\;s time to return to The Source NY&quot\;</span>
LOCATION:The Source NY 143 Boardman Rd\, Bldg 3 Poughkeepsie\, NY 12603
UID:e.2770.10480527
SEQUENCE:3
DTSTAMP:20260423T071933Z
URL:http://dutchesscountyregional.smartcms.site/events/details/pearls-and-spirits-10480527
END:VEVENT

END:VCALENDAR
