BEGIN:VCALENDAR
VERSION:2.0
PRODID:-//ChamberMaster//Event Calendar 2.0//EN
METHOD:PUBLISH
X-PUBLISHED-TTL:P3D
REFRESH-INTERVAL:P3D
CALSCALE:GREGORIAN
BEGIN:VEVENT
DTSTART:20190301T163000Z
DTEND:20190301T180000Z
X-MICROSOFT-CDO-ALLDAYEVENT:FALSE
SUMMARY:Physician in the Kitchen: Understanding Digestive Health
DESCRIPTION:Join Dr. David Lin\, Gastroenterology\, NewYork-Presbyterian Medical Group Hudson Valley\, for an opportunity to learn about supporting your digestive health. Topics of discussion will range from acid reflux\, to probiotics\, fiber and more. A lunch\, prepared together\, will be served.
X-ALT-DESC;FMTTYPE=text/html:Join Dr. David Lin\, Gastroenterology\, NewYork-Presbyterian Medical Group Hudson Valley\, for an opportunity to learn about supporting your digestive health. Topics of discussion will range from acid reflux\, to probiotics\, fiber and more. A lunch\, prepared together\, will be served.
LOCATION:NewYork-Presbyterian Hudson Valley Hospital Chef Peter X. Kelly Teaching Kitchen 1992 Crompond Road Cortlandt Manor\, NY
UID:e.2770.10480528
SEQUENCE:3
DTSTAMP:20260423T072100Z
URL:http://dutchesscountyregional.smartcms.site/events/details/physician-in-the-kitchen-understanding-digestive-health-10480528
END:VEVENT

END:VCALENDAR
