BEGIN:VCALENDAR
VERSION:2.0
PRODID:-//ChamberMaster//Event Calendar 2.0//EN
METHOD:PUBLISH
X-PUBLISHED-TTL:P3D
REFRESH-INTERVAL:P3D
CALSCALE:GREGORIAN
BEGIN:VEVENT
DTSTART:20190402T233000Z
DTEND:20190403T010000Z
X-MICROSOFT-CDO-ALLDAYEVENT:FALSE
SUMMARY:PKGO Getters After Hours Meet & Greet
DESCRIPTION:Join us after the PKGO Getters event for a Meet & Greet with Jessica O. Matthews\, Founder\, and CEO of Uncharted Power\, at 40 Cannon!
X-ALT-DESC;FMTTYPE=text/html:<span style="color: rgb(29\, 33\, 41)\; font-family: helvetica\,arial\,sans-serif\; font-size: 14px\;">Join us after the PKGO Getters event for a Meet &amp\; Greet with Jessica O. Matthews\, Founder\, and CEO of Uncharted Power\, at 40 Cannon!</span>
LOCATION:40 Cannon 40 Cannon Street\, Poughkeepsie NY 12601
UID:e.2770.10480575
SEQUENCE:3
DTSTAMP:20260423T055348Z
URL:http://dutchesscountyregional.smartcms.site/events/details/pkgo-getters-after-hours-meet-greet-10480575
END:VEVENT

END:VCALENDAR
