BEGIN:VCALENDAR
VERSION:2.0
PRODID:-//ChamberMaster//Event Calendar 2.0//EN
METHOD:PUBLISH
X-PUBLISHED-TTL:P3D
REFRESH-INTERVAL:P3D
CALSCALE:GREGORIAN
BEGIN:VEVENT
DTSTART:20180630T150000Z
DTEND:20180630T210000Z
X-MICROSOFT-CDO-ALLDAYEVENT:FALSE
SUMMARY:Plant Communication Workshop
DESCRIPTION:In this one-day workshop participants will:   Learn about the recent developments and scientific studies and evidence of plant communication and sentience   Develop an understanding of how plants communicate   Learn how to develop sensory awareness of plants and their messages   Learn to identify the unique energy of each plant and how that affects the human energy field   Access plant consciousness through the Shamanic Journey   Communicate with plants through light\, sound\, and breath   Learn to enter the Daydream of the Plants   Discover a Plant Ally and form a deep bond with your ally   Access your Ally's specific gifts for you to bring balance and healing to your life   Experience the Music of the Plants\, a device that allows us to hear and interact with the plant's music This is a unique opportunity to explore this emerging and yet ancient way of being at peace with ourselves and our world and finding answers to the many questions and challenges that we face. If you feel a resonance with this work\, please join us! Additional information can be found on the Facebook event here\, https://www.facebook.com/events/2027831477258570/ Space is limited and pre-registration is required.
X-ALT-DESC;FMTTYPE=text/html:In this one-day workshop participants will: &bull\; Learn about the recent developments and scientific studies and evidence of plant communication and sentience &bull\; Develop an understanding of how plants communicate &bull\; Learn how to develop sensory awareness of plants and their messages &bull\; Learn to identify the unique energy of each plant and how that affects the human energy field &bull\; Access plant consciousness through the Shamanic Journey &bull\; Communicate with plants through light\, sound\, and breath &bull\; Learn to enter the Daydream of the Plants &bull\; Discover a Plant Ally and form a deep bond with your ally &bull\; Access your Ally&rsquo\;s specific gifts for you to bring balance and healing to your life &bull\; Experience the Music of the Plants\, a device that allows us to hear and interact with the plant&rsquo\;s music This is a unique opportunity to explore this emerging and yet ancient way of being at peace with ourselves and our world and finding answers to the many questions and challenges that we face. If you feel a resonance with this work\, please join us! Additional information can be found on the Facebook event here\, https://www.facebook.com/events/2027831477258570/ Space is limited and pre-registration is required.
LOCATION:World Peace Prayer Society 26 Benton Road Wassaic\, NY 12592
UID:e.2770.10479260
SEQUENCE:3
DTSTAMP:20260426T021446Z
URL:http://dutchesscountyregional.smartcms.site/events/details/plant-communication-workshop-10479260
END:VEVENT

END:VCALENDAR
