BEGIN:VCALENDAR
VERSION:2.0
PRODID:-//ChamberMaster//Event Calendar 2.0//EN
METHOD:PUBLISH
X-PUBLISHED-TTL:P3D
REFRESH-INTERVAL:P3D
CALSCALE:GREGORIAN
BEGIN:VEVENT
DTSTART:20190505T150000Z
DTEND:20190505T200000Z
X-MICROSOFT-CDO-ALLDAYEVENT:FALSE
SUMMARY:Poughkeepsie* Pink Eggs & Glam Drag Brunch w/ Delighted Tobehere
DESCRIPTION:Join us at our outstanding live singing and comedy Pink Eggs & Glam Drag Brunch in Poughkeepsie! This will be our second month at Farmers & Chefs\, and it's going to be even better than the first. We've got a fantastic lineup of rotating superstars from all around the world. If you have yet to attend a Sky Casper Events Pink Eggs & Glam Drag Brunch\, just expect a great time with a phenomenal live singing and comedic drag performer or two. SUPERSTAR OF THE MONTH: The legendary Delighted Tobehere as seen on America's Got Talent! Delighted Tobehere was named as one of the funniest drag queens in America by the Huffington Post\, and the internationally celebrated comedian Pam Ann says that she is "hysterical!" Brunch seating times: 11am/11:30am & 2pm/2:30pm Showtimes: 12pm & 3pm $15 tickets online at SkyCasper.com/events (AGES 18+) (Round tables fit 8 people each) WHEELCHAIR ACCESSIBLE Food & Drink Options: $23 Extensive Brunch Buffet $20 Unlimited Mimosas & Bloody Mary's Pink Eggs & Glam Drag Brunch T-Shirts are available for only $20   sharpies available so you can collect your favorite drag performers autographs on your #PinkEggsAndGlam shirt! Text "CASPERNY" to 33222 to get monthly texts about upcoming events & chances to win prizes. Can't wait to see you all there! XOXO Sky Casper Events
X-ALT-DESC;FMTTYPE=text/html:Join us at our outstanding live singing and comedy Pink Eggs &amp\; Glam Drag Brunch in Poughkeepsie! This will be our second month at Farmers &amp\; Chefs\, and it&#39\;s going to be even better than the first. We&#39\;ve got a fantastic lineup of rotating superstars from all around the world. If you have yet to attend a Sky Casper Events Pink Eggs &amp\; Glam Drag Brunch\, just expect a great time with a phenomenal live singing and comedic drag performer or two. SUPERSTAR OF THE MONTH: The legendary Delighted Tobehere as seen on America&#39\;s Got Talent! Delighted Tobehere was named as one of the funniest drag queens in America by the Huffington Post\, and the internationally celebrated comedian Pam Ann says that she is &ldquo\;hysterical!&rdquo\; Brunch seating times: 11am/11:30am &amp\; 2pm/2:30pm Showtimes: 12pm &amp\; 3pm $15 tickets online at SkyCasper.com/events (AGES 18+) (Round tables fit 8 people each) WHEELCHAIR ACCESSIBLE Food &amp\; Drink Options: $23 Extensive Brunch Buffet $20 Unlimited Mimosas &amp\; Bloody Mary&#39\;s Pink Eggs &amp\; Glam Drag Brunch T-Shirts are available for only $20 &ndash\; sharpies available so you can collect your favorite drag performers autographs on your #PinkEggsAndGlam shirt! Text &quot\;CASPERNY&quot\; to 33222 to get monthly texts about upcoming events &amp\; chances to win prizes. Can&#39\;t wait to see you all there! XOXO Sky Casper Events
LOCATION:Farmers & Chefs 40 Albany St\, Poughkeepsie\, NY 12601
UID:e.2770.10480717
SEQUENCE:3
DTSTAMP:20260423T054433Z
URL:http://dutchesscountyregional.smartcms.site/events/details/poughkeepsie-pink-eggs-glam-drag-brunch-w-delighted-tobehere-10480717
END:VEVENT

END:VCALENDAR
