BEGIN:VCALENDAR
VERSION:2.0
PRODID:-//ChamberMaster//Event Calendar 2.0//EN
METHOD:PUBLISH
X-PUBLISHED-TTL:P3D
REFRESH-INTERVAL:P3D
CALSCALE:GREGORIAN
BEGIN:VEVENT
DTSTART:20200923T220000Z
DTEND:20200924T010000Z
X-MICROSOFT-CDO-ALLDAYEVENT:FALSE
SUMMARY:Programa de Entrenamiento Empresarial- Otoño 2020
DESCRIPTION:Los instructores profesionales de WEDC te ayudar n a completar tu plan de negocio y navegar todos los aspectos de como iniciar\, administrar y mantener tu negocio.\n\n\n\nLas sesiones incluyen:\n\n\n	\n	Investigaci n del Mercado\; La Competencia\n	\n	\n	Estableciendo Precios para su Producto/Servicio\n	\n	\n	Entrenamiento de Computaci n\n	\n	\n	Introducci n a Flujo de Caja y Estados Financieros\n	\n	\n	Acceso al Capital y Seguros\n	\n	\n	Estructuras Legales\, Licencias\, e Impuestos\n	\n\n\n\n\nAl final del programa podr s realizar tu propio plan de negocios\, tendr s una certificaci n por parte de WEDC y adem s conocer s otros emprendedores de los cuales aprender s y compartir s en tu camino como emprendedor.
X-ALT-DESC;FMTTYPE=text/html:<p><span style="font-size:16px">Los instructores profesionales de WEDC te ayudar&aacute\;n a completar tu plan de negocio y navegar todos los aspectos de como iniciar\, administrar y mantener tu negocio.<br />\n<br />\n<strong>Las sesiones incluyen:</strong></span></p>\n\n<ul>\n	<li>\n	<p><span style="font-size:16px">Investigaci&oacute\;n del Mercado\; La Competencia</span></p>\n	</li>\n	<li>\n	<p><span style="font-size:16px">Estableciendo Precios para su Producto/Servicio</span></p>\n	</li>\n	<li>\n	<p><span style="font-size:16px">Entrenamiento de Computaci&oacute\;n</span></p>\n	</li>\n	<li>\n	<p><span style="font-size:16px">Introducci&oacute\;n a Flujo de Caja y Estados Financieros</span></p>\n	</li>\n	<li>\n	<p><span style="font-size:16px">Acceso al Capital y Seguros</span></p>\n	</li>\n	<li>\n	<p><span style="font-size:16px">Estructuras Legales\, Licencias\, e Impuestos</span></p>\n	</li>\n</ul>\n\n<p><br />\n<span style="font-size:16px">Al final del programa podr&aacute\;s realizar tu propio plan de negocios\, tendr&aacute\;s una certificaci&oacute\;n por parte de WEDC y adem&aacute\;s conocer&aacute\;s otros emprendedores de los cuales aprender&aacute\;s y compartir&aacute\;s en tu camino como emprendedor.</span></p>\n
LOCATION:Zoom
UID:e.2770.10484435
SEQUENCE:3
DTSTAMP:20260421T225555Z
URL:http://dutchesscountyregional.smartcms.site/events/details/programa-de-entrenamiento-empresarial-09-23-2020-10484435
END:VEVENT

END:VCALENDAR
