BEGIN:VCALENDAR
VERSION:2.0
PRODID:-//ChamberMaster//Event Calendar 2.0//EN
METHOD:PUBLISH
X-PUBLISHED-TTL:P3D
REFRESH-INTERVAL:P3D
CALSCALE:GREGORIAN
BEGIN:VEVENT
DTSTART:20190105T170000Z
DTEND:20190105T190000Z
X-MICROSOFT-CDO-ALLDAYEVENT:FALSE
SUMMARY:Psychic Reiki Workshop
DESCRIPTION:The Source NY is pleased to host Brett Bevell\, Reiki Master and Author on January 5\, 2019 for a Psychic Reiki workshop. This class will teach individuals how to connect with the Divine and strengthen their ability to self heal\, relax and release stress and tension. The perfect course after the busy holiday season. \n\nThis is not a certificate course. This is a self learning event. \n\nPlease call The Source NY 214-0452 to reserve your space. \n\n143 Boardman Rd\, Poughkeepsie\n\n"When life becomes chaotic it's time to return to The Source"
X-ALT-DESC;FMTTYPE=text/html:<span style="font-size:14px"><span style="font-family:tahoma">The Source NY is pleased to host Brett Bevell\, Reiki Master and Author on January 5\, 2019 for a Psychic Reiki workshop. This class will teach individuals how to connect with the Divine and strengthen their ability to self heal\, relax and release stress and tension. The perfect course after the busy holiday season.&nbsp\;<br />\nThis is not a certificate course. This is a self learning event.&nbsp\;<br />\nPlease call The Source NY 214-0452 to reserve your space.&nbsp\;<br />\n143 Boardman Rd\, Poughkeepsie</span></span><br />\n<strong><span style="font-family:comic sans ms"><span style="font-size:14px">&quot\;When life becomes chaotic it&#39\;s time to return to The Source&quot\;</span></span></strong>
LOCATION:The Source NY 143 Boardman Rd\, Bldg 3 Poughkeepsie\, NY 12603
UID:e.2770.10479921
SEQUENCE:3
DTSTAMP:20260425T123753Z
URL:http://dutchesscountyregional.smartcms.site/events/details/psychic-reiki-workshop-10479921
END:VEVENT

END:VCALENDAR
