BEGIN:VCALENDAR
VERSION:2.0
PRODID:-//ChamberMaster//Event Calendar 2.0//EN
METHOD:PUBLISH
X-PUBLISHED-TTL:P3D
REFRESH-INTERVAL:P3D
CALSCALE:GREGORIAN
BEGIN:VEVENT
DTSTART:20190531T223000Z
DTEND:20190601T023000Z
X-MICROSOFT-CDO-ALLDAYEVENT:FALSE
SUMMARY:Putnam County Golf Course BBQ Series - Shilelagh Law
DESCRIPTION:IT'S BACK & BETTER THAN EVER! The Friday Night BBQ Live Entertainment Series at Putnam County Golf Course. Our Summer BBQ Series Kick-Off starts on Friday\, May 31st with Shilelagh Law!!! Tickets are available for purchase online for $29 and include a BBQ Buffet and the Show. A Cash Bar will be available throughout the evening. Tickets at the door are $35. Doors Open at 6:30 pm We Rock Rain or Shine and take it indoors to our large ballroom during inclement weather. Enjoy the Open Air Friday Night BBQ Series Under the Stars Every Friday Night From May 31st through October (unless noted otherwise). Be sure to BRING CHAIRS AND BLANKETS!
X-ALT-DESC;FMTTYPE=text/html:IT&#39\;S BACK &amp\; BETTER THAN EVER! The Friday Night BBQ Live Entertainment Series at Putnam County Golf Course. Our Summer BBQ Series Kick-Off starts on Friday\, May 31st with Shilelagh Law!!! Tickets are available for purchase online for $29 and include a BBQ Buffet and the Show. A Cash Bar will be available throughout the evening. Tickets at the door are $35. Doors Open at 6:30 pm We Rock Rain or Shine and take it indoors to our large ballroom during inclement weather. Enjoy the Open Air Friday Night BBQ Series Under the Stars Every Friday Night From May 31st through October (unless noted otherwise). Be sure to BRING CHAIRS AND BLANKETS!
LOCATION:Putnam County Golf Course
UID:e.2770.10480720
SEQUENCE:3
DTSTAMP:20260423T035218Z
URL:http://dutchesscountyregional.smartcms.site/events/details/putnam-county-golf-course-bbq-series-shilelagh-law-10480720
END:VEVENT

END:VCALENDAR
