BEGIN:VCALENDAR
VERSION:2.0
PRODID:-//ChamberMaster//Event Calendar 2.0//EN
METHOD:PUBLISH
X-PUBLISHED-TTL:P3D
REFRESH-INTERVAL:P3D
CALSCALE:GREGORIAN
BEGIN:VEVENT
DTSTART:20190531T213000Z
DTEND:20190601T000000Z
X-MICROSOFT-CDO-ALLDAYEVENT:FALSE
SUMMARY:Putt for the Ponies!
DESCRIPTION:Grab a team of 4 and come join us Friday\, May 31st for Inaugural Mini Golf Tourament to kick-off the summer!\n\n\n\nThis will be a great night of food\, raffles\, and mini-golf for the ponies!\n\n\n\n$100 per four-some\n\n\n\nIncludes: 18 outdoor\, 9 indoor holes of mini-golf\, appetizers\, team photo with a pony. Cash bar available. \n\n\n\nSponsorship opportunities available!\n\n\n\nBe sure to stay for Bands in the Sands- bring your sandals and beach chairs and listen to live music by Outside the Box. This is a free event and the Tiki Bar will be open!\n\n\n\nTo register email kate@katerabe.com.
X-ALT-DESC;FMTTYPE=text/html:<span style="color:rgb(29\, 33\, 41)\; font-family:helvetica\,arial\,sans-serif\; font-size:14px">Grab a team of 4 and come join us Friday\, May 31st for Inaugural Mini Golf Tourament to kick-off the summer!</span><br />\n<br />\n<span style="color:rgb(29\, 33\, 41)\; font-family:helvetica\,arial\,sans-serif\; font-size:14px">This will be a great night of food\, raffles\, and mini-golf for the ponies!</span><br />\n<br />\n<span style="color:rgb(29\, 33\, 41)\; font-family:helvetica\,arial\,sans-serif\; font-size:14px">$100 per four-some</span><br />\n<br />\n<span style="color:rgb(29\, 33\, 41)\; font-family:helvetica\,arial\,sans-serif\; font-size:14px">Includes: 18 outdoor\, 9 indoor holes of mini-golf\, appetizers\, team photo with a pony. Cash bar available. </span><br />\n<br />\n<span style="color:rgb(29\, 33\, 41)\; font-family:helvetica\,arial\,sans-serif\; font-size:14px">Sponsorship opportunities available!</span><br />\n<br />\n<span style="color:rgb(29\, 33\, 41)\; font-family:helvetica\,arial\,sans-serif\; font-size:14px">Be sure to stay for Bands in the Sands- bring your sandals and beach chairs and listen to live music by Outside the Box. This is a free event and the Tiki Bar will be open!</span><br />\n<br />\n<span style="color:rgb(29\, 33\, 41)\; font-family:helvetica\,arial\,sans-serif\; font-size:14px">To register email kate@katerabe.com.</span>
LOCATION:DC Sports 1630 Route 9\, Wappingers Falls NY 12590
UID:e.2770.10480762
SEQUENCE:3
DTSTAMP:20260423T034951Z
URL:http://dutchesscountyregional.smartcms.site/events/details/putt-for-the-ponies-10480762
END:VEVENT

END:VCALENDAR
