BEGIN:VCALENDAR
VERSION:2.0
PRODID:-//ChamberMaster//Event Calendar 2.0//EN
METHOD:PUBLISH
X-PUBLISHED-TTL:P3D
REFRESH-INTERVAL:P3D
CALSCALE:GREGORIAN
BEGIN:VEVENT
DTSTART:20190117T133000Z
DTEND:20190117T150000Z
X-MICROSOFT-CDO-ALLDAYEVENT:FALSE
SUMMARY:Putting the Savvy in Your Social Media Workshop
DESCRIPTION:Following Impact PR & Communications' digital communications division launch\, the firm will host an intimate workshop\, "Putting the Savvy in Your Social Media". Seminar cost is $99 per person and will include breakfast\, a presentation on social media best practices and a 30-minute Q&A with the agency's digital team. Seating is limited and advanced registration is required. For more information or to reserve a space in the upcoming seminar\, please call (845) 462-4979 or email info@prwithimpact.com. *Snow date: January 31\, 2019.
X-ALT-DESC;FMTTYPE=text/html:Following Impact PR &amp\; Communications&#39\; digital communications division launch\, the firm will host an intimate workshop\, &quot\;Putting the Savvy in Your Social Media&quot\;. Seminar cost is $99 per person and will include breakfast\, a presentation on social media best practices and a 30-minute Q&amp\;A with the agency&#39\;s digital team. Seating is limited and advanced registration is required. For more information or to reserve a space in the upcoming seminar\, please call (845) 462-4979 or email info@prwithimpact.com. *Snow date: January 31\, 2019.
LOCATION:Impact PR & Communications 2 Lagrange Avenue\, Suite 209 Poughkeepsie\, NY 12603
UID:e.2770.10480202
SEQUENCE:3
DTSTAMP:20260425T123822Z
URL:http://dutchesscountyregional.smartcms.site/events/details/putting-the-savvy-in-your-social-media-workshop-10480202
END:VEVENT

END:VCALENDAR
