BEGIN:VCALENDAR
VERSION:2.0
PRODID:-//ChamberMaster//Event Calendar 2.0//EN
METHOD:PUBLISH
X-PUBLISHED-TTL:P3D
REFRESH-INTERVAL:P3D
CALSCALE:GREGORIAN
BEGIN:VEVENT
DTSTART:20190221T230000Z
DTEND:20190222T020000Z
X-MICROSOFT-CDO-ALLDAYEVENT:FALSE
SUMMARY:Rank On The First Page Of Google
DESCRIPTION:Step-by-step approach to understand how to create content that ranks using WordPress! \n\n \n\n  When SEO is appropriate and when you should use PPC (Pay-Per-Click)\n\n  Pitfalls to avoid in SEO (avoid getting banned by Google)\n\n  A simple tool for doing keyword research\, and the strategy that applies\n\n  Critical technical elements in WordPress for SEO\n\n  How to do on-page optimization\n\n \n\n*  Class covers WordPress only.  Must be comfortable using WordPress.
X-ALT-DESC;FMTTYPE=text/html:<p><span style="font-size: 16px\;"><strong><span style="font-family: calibri\;">Step-by-step approach to understand how to create content that ranks using WordPress! </span></strong><br />\n&nbsp\;<br />\n<span style="color: black\;"><span style="font-family: symbol\;">&middot\;</span></span>&nbsp\;<span style="font-family: calibri\;">When SEO is appropriate and when you should use PPC (Pay-Per-Click)</span><br />\n<span style="color: black\;"><span style="font-family: symbol\;">&middot\;</span></span>&nbsp\;<span style="font-family: calibri\;">Pitfalls to avoid in SEO (avoid getting banned by Google)</span><br />\n<span style="color: black\;"><span style="font-family: symbol\;">&middot\;</span></span>&nbsp\;<span style="font-family: calibri\;">A simple tool for doing keyword research\, and the strategy that applies</span><br />\n<span style="color: black\;"><span style="font-family: symbol\;">&middot\;</span></span>&nbsp\;<span style="font-family: calibri\;">Critical technical elements in WordPress for SEO</span><br />\n<span style="color: black\;"><span style="font-family: symbol\;">&middot\;</span></span>&nbsp\;<span style="font-family: calibri\;">How to do on-page optimization</span><br />\n&nbsp\;<br />\n<em><span style="font-family: calibri\;">*&nbsp\; Class covers WordPress only.&nbsp\; Must be comfortable using WordPress.</span></em><br />\n&nbsp\;</span></p>\n
LOCATION:The Accelerator 4 Crotty Lane\, Suite 100 (Formerly known as London Avenue) New Windsor\, NY 12553
UID:e.2770.10479868
SEQUENCE:3
DTSTAMP:20260423T083923Z
URL:http://dutchesscountyregional.smartcms.site/events/details/rank-on-the-first-page-of-google-10479868
END:VEVENT

END:VCALENDAR
