BEGIN:VCALENDAR
VERSION:2.0
PRODID:-//ChamberMaster//Event Calendar 2.0//EN
METHOD:PUBLISH
X-PUBLISHED-TTL:P3D
REFRESH-INTERVAL:P3D
CALSCALE:GREGORIAN
BEGIN:VEVENT
DTSTART:20200529T230000Z
DTEND:20200531T040000Z
X-MICROSOFT-CDO-ALLDAYEVENT:FALSE
SUMMARY:Reel Exposure International Teen Film and Photo Festival
DESCRIPTION:Now a FREE 3-Day festival! May 29   31\, 2020 with a virtual photo gallery open all weekend\, live film screenings each night at 7:00 pm on YouTube and Facebook Live\, culminating with a special award presentation and Q&A on Sunday\, May 31. There are even an Audience Choice awards whose winners will be announced Monday\, June 1st on social media. Check out the trailer\, pre-register for the festival\, and get more information at https://feelthearteffect.org/events/reel-exposure/
X-ALT-DESC;FMTTYPE=text/html:Now a FREE 3-Day festival! May 29 &ndash\; 31\, 2020 with a virtual photo gallery open all weekend\, live film screenings each night at 7:00 pm on YouTube and Facebook Live\, culminating with a special award presentation and Q&amp\;A on Sunday\, May 31. There are even an Audience Choice awards whose winners will be announced Monday\, June 1st on social media. Check out the trailer\, pre-register for the festival\, and get more information at https://feelthearteffect.org/events/reel-exposure/
LOCATION:Online at: feelthearteffect.org/reel-exposure
UID:e.2770.10483286
SEQUENCE:3
DTSTAMP:20260422T054020Z
URL:http://dutchesscountyregional.smartcms.site/events/details/reel-exposure-international-teen-film-and-photo-festival-10483286
END:VEVENT

END:VCALENDAR
