BEGIN:VCALENDAR
VERSION:2.0
PRODID:-//ChamberMaster//Event Calendar 2.0//EN
METHOD:PUBLISH
X-PUBLISHED-TTL:P3D
REFRESH-INTERVAL:P3D
CALSCALE:GREGORIAN
BEGIN:VEVENT
DTSTART:20200806T160000Z
DTEND:20200806T170000Z
X-MICROSOFT-CDO-ALLDAYEVENT:FALSE
SUMMARY:Ribbon Cutting - 110 Grill
DESCRIPTION:Join us as we celebrate the grand opening!\n\n\n\n***Registration Required***\n\n\n\nSponsored by: Branding Pros
X-ALT-DESC;FMTTYPE=text/html:<br />\n<span style="font-size:20px\;"><span style="font-family:times new roman\;">Join us as we celebrate the grand opening!</span></span><br />\n<br />\n<strong><span style="font-size:18px\;"><span style="font-family:times new roman\;">***Registration Required***<br />\n<br />\nSponsored by: <a href="https://www.brandingpros.com/" target="_blank"><span style="color:#0000FF\;">Branding Pros</span></a></span></span></strong>
LOCATION:Poughkeepsie Galleria 2001 South Road Space C-102 (Next to Macy's)
UID:e.2770.10484425
SEQUENCE:3
DTSTAMP:20260422T003326Z
URL:http://dutchesscountyregional.smartcms.site/events/details/ribbon-cutting-110-grill-10484425
END:VEVENT

END:VCALENDAR
