BEGIN:VCALENDAR
VERSION:2.0
PRODID:-//ChamberMaster//Event Calendar 2.0//EN
METHOD:PUBLISH
X-PUBLISHED-TTL:P3D
REFRESH-INTERVAL:P3D
CALSCALE:GREGORIAN
BEGIN:VEVENT
DTSTART:20190313T200000Z
DTEND:20190313T210000Z
X-MICROSOFT-CDO-ALLDAYEVENT:FALSE
SUMMARY:Ribbon Cutting-Access Physical Therapy & Wellness
DESCRIPTION:Join us for the opening of a new location!
X-ALT-DESC;FMTTYPE=text/html:Join us for the opening of a new location!&nbsp\;&nbsp\;&nbsp\;&nbsp\;&nbsp\;&nbsp\;&nbsp\;&nbsp\;&nbsp\;&nbsp\;&nbsp\;&nbsp\;
LOCATION:18 West Road Unit 9 Pleasant Valley
UID:e.2770.10480452
SEQUENCE:3
DTSTAMP:20260423T071935Z
URL:http://dutchesscountyregional.smartcms.site/events/details/ribbon-cutting-access-physical-therapy-wellness-10480452
END:VEVENT

END:VCALENDAR
