BEGIN:VCALENDAR
VERSION:2.0
PRODID:-//ChamberMaster//Event Calendar 2.0//EN
METHOD:PUBLISH
X-PUBLISHED-TTL:P3D
REFRESH-INTERVAL:P3D
CALSCALE:GREGORIAN
BEGIN:VEVENT
DTSTART:20180601T160000Z
DTEND:20180601T170000Z
X-MICROSOFT-CDO-ALLDAYEVENT:FALSE
SUMMARY:Ribbon Cutting - Advocate Homecare
DESCRIPTION:Join us to celebrate the Grand Opening\n\nRefreshments will be served
X-ALT-DESC;FMTTYPE=text/html:Join us to celebrate the Grand Opening<br />\nRefreshments will be served
LOCATION:1081 Main Street\, Suite C Fishkill
UID:e.2770.10477637
SEQUENCE:3
DTSTAMP:20260426T022706Z
URL:http://dutchesscountyregional.smartcms.site/events/details/ribbon-cutting-advocate-homecare-10477637
END:VEVENT

END:VCALENDAR
