BEGIN:VCALENDAR
VERSION:2.0
PRODID:-//ChamberMaster//Event Calendar 2.0//EN
METHOD:PUBLISH
X-PUBLISHED-TTL:P3D
REFRESH-INTERVAL:P3D
CALSCALE:GREGORIAN
BEGIN:VEVENT
DTSTART:20191025T160000Z
DTEND:20191025T170000Z
X-MICROSOFT-CDO-ALLDAYEVENT:FALSE
SUMMARY:Ribbon Cutting: Atlas Star Ltd.
DESCRIPTION:Join us as we celebrate their 20th anniversary!
X-ALT-DESC;FMTTYPE=text/html:Join us as we celebrate their 20th anniversary!
LOCATION:753 Route 9 Fishkill
UID:e.2770.10481001
SEQUENCE:3
DTSTAMP:20260422T172747Z
URL:http://dutchesscountyregional.smartcms.site/events/details/ribbon-cutting-atlas-star-ltd-10481001
END:VEVENT

END:VCALENDAR
