BEGIN:VCALENDAR
VERSION:2.0
PRODID:-//ChamberMaster//Event Calendar 2.0//EN
METHOD:PUBLISH
X-PUBLISHED-TTL:P3D
REFRESH-INTERVAL:P3D
CALSCALE:GREGORIAN
BEGIN:VEVENT
DTSTART:20210312T170000Z
DTEND:20210312T180000Z
X-MICROSOFT-CDO-ALLDAYEVENT:FALSE
SUMMARY:Ribbon Cutting - Café Con Leche
DESCRIPTION:Join us to celebrate the Grand Opening of the new location!\n\n\n\nRegistration for this event is required\, walk-ins are not permitted. \n\n\n\nSponsored by Branding Pros\n\n\n\nLike all businesses\, we have updated how we conduct our events to ensure the safety of our attendees and staff at our Ribbon Cutting events. To remain in compliant with state regulations\, all individuals will be required to wear a mask when it is not possible to maintain a 6-foot social distance from other individuals. Because Ribbon Cuttings often include individuals moving around\, it is encouraged you keep your mask on throughout the entirety of the event. Social distancing should be maintained whenever possible\, and the number of attendees allowed at each event has been reduced to ensure this is possible. Hand sanitizer will be available at the event\, and all shared surfaces will be cleaned before and after the event. Failure to comply with these safety measures may result in a staff member asking you to leave the event for the safety of attendees. Those who are repeatedly asked to leave may be banned from attending future Ribbon Cuttings and other in-person events.
X-ALT-DESC;FMTTYPE=text/html:<br />\n<span style="color:#000000\;"><span style="font-size:16px\;"><span style="font-family:times new roman\;"><span style="font-size:18px\;">Join us to celebrate the Grand Opening of the new location!</span></span></span><br />\n<br />\n<span style="font-size: 18px\;"><span style="background: yellow\;"><span style="font-family: &quot\;times new roman&quot\;\, serif\;">Registration for this event is required\, walk-ins are not permitted.</span></span>&nbsp\;</span></span><br />\n<br />\n<span style="font-size: 18px\;"><span style="font-family: &quot\;times new roman&quot\;\;"><span style="color: rgb(0\, 0\, 0)\;">Sponsored by</span>&nbsp\;<strong><a href="https://www.brandingpros.com/" target="_blank"><span style="color: rgb(0\, 0\, 255)\;">Branding Pros</span></a></strong></span></span><br />\n<br />\n<span style="color:#000000\;"><span style="font-size: 16px\;"><span style="font-family: &quot\;times new roman&quot\;\;"><span style="background-image: initial\; background-position: initial\; background-size: initial\; background-repeat: initial\; background-attachment: initial\; background-origin: initial\; background-clip: initial\;">Like all businesses\, we have updated how we conduct our events to ensure the safety of our attendees and staff at our Ribbon Cutting events. To remain in compliant with state regulations\, all individuals will be required to wear a mask when it is not possible to maintain a 6-foot social distance from other individuals. Because Ribbon Cuttings often include individuals moving around\, it is encouraged you keep your mask on throughout the entirety of the event. Social distancing should be maintained whenever possible\, and the number of attendees allowed at each event has been reduced to ensure this is possible. Hand sanitizer will be available at the event\, and all shared surfaces will be cleaned before and after the event. Failure to comply with these safety measures may result in a staff member asking you to leave the event for the safety of attendees. Those who are repeatedly asked to leave may be banned from attending future Ribbon Cuttings and other in-person events.</span></span></span></span><br />\n&nbsp\;
LOCATION:2710 W Main Street Wappingers Falls
UID:e.2770.10484995
SEQUENCE:3
DTSTAMP:20260421T132036Z
URL:http://dutchesscountyregional.smartcms.site/events/details/ribbon-cutting-caf&#233;-con-leche-10484995
END:VEVENT

END:VCALENDAR
